BEGIN:VCALENDAR
VERSION:2.0
PRODID:-//Young People&#039;s Theatre - ECPv6.15.16.1//NONSGML v1.0//EN
CALSCALE:GREGORIAN
METHOD:PUBLISH
X-WR-CALNAME:Young People&#039;s Theatre
X-ORIGINAL-URL:https://www.youngpeoplestheatre.org
X-WR-CALDESC:Events for Young People&#039;s Theatre
REFRESH-INTERVAL;VALUE=DURATION:PT1H
X-Robots-Tag:noindex
X-PUBLISHED-TTL:PT1H
BEGIN:VTIMEZONE
TZID:America/Toronto
BEGIN:DAYLIGHT
TZOFFSETFROM:-0500
TZOFFSETTO:-0400
TZNAME:EDT
DTSTART:20150308T070000
END:DAYLIGHT
BEGIN:STANDARD
TZOFFSETFROM:-0400
TZOFFSETTO:-0500
TZNAME:EST
DTSTART:20151101T060000
END:STANDARD
BEGIN:DAYLIGHT
TZOFFSETFROM:-0500
TZOFFSETTO:-0400
TZNAME:EDT
DTSTART:20160313T070000
END:DAYLIGHT
BEGIN:STANDARD
TZOFFSETFROM:-0400
TZOFFSETTO:-0500
TZNAME:EST
DTSTART:20161106T060000
END:STANDARD
BEGIN:DAYLIGHT
TZOFFSETFROM:-0500
TZOFFSETTO:-0400
TZNAME:EDT
DTSTART:20170312T070000
END:DAYLIGHT
BEGIN:STANDARD
TZOFFSETFROM:-0400
TZOFFSETTO:-0500
TZNAME:EST
DTSTART:20171105T060000
END:STANDARD
BEGIN:DAYLIGHT
TZOFFSETFROM:-0500
TZOFFSETTO:-0400
TZNAME:EDT
DTSTART:20180311T070000
END:DAYLIGHT
BEGIN:STANDARD
TZOFFSETFROM:-0400
TZOFFSETTO:-0500
TZNAME:EST
DTSTART:20181104T060000
END:STANDARD
END:VTIMEZONE
BEGIN:VEVENT
DTSTART;TZID=America/Toronto:20171101T094500
DTEND;TZID=America/Toronto:20171101T104500
DTSTAMP:20260425T093935
CREATED:20171106T175657Z
LAST-MODIFIED:20171124T203947Z
UID:18469-1509529500-1509533100@www.youngpeoplestheatre.org
SUMMARY:Drama Time - Syme Woolner
DESCRIPTION:Nov. 1\, 2017 \n9:45AM – 10:45AM \nSyme Woolner Neighbourhood & Family Centre
URL:https://www.youngpeoplestheatre.org/event/drama-time-syme-woolner/2017-11-01/
LOCATION:Syme Woolner Neighbourhood & Family Centre\, 69 Pritchard Ave\, Toronto\, ON\, M6N1T3\, Canada
GEO:43.6699106;-79.4911847
X-APPLE-STRUCTURED-LOCATION;VALUE=URI;X-ADDRESS=Syme Woolner Neighbourhood & Family Centre 69 Pritchard Ave Toronto ON M6N1T3 Canada;X-APPLE-RADIUS=500;X-TITLE=69 Pritchard Ave:geo:-79.4911847,43.6699106
END:VEVENT
BEGIN:VEVENT
DTSTART;TZID=America/Toronto:20161005T093000
DTEND;TZID=America/Toronto:20161005T101500
DTSTAMP:20260425T093935
CREATED:20160831T180149Z
LAST-MODIFIED:20160831T180522Z
UID:12452-1475659800-1475662500@www.youngpeoplestheatre.org
SUMMARY:Drama Time Program - Syme Woolner Neighbourhood & Family Centre
DESCRIPTION:Drama Time\nYPT provides a weekly Drama Time program for infants\, toddlers and their caregivers at The Syme Woolner Neighbourhood & Family Centre in York/Weston. The weekly\, hour-long programs explore a particular theme through reading\, dramatization\, song and craft making. The majority of the participants\, both caregivers and children\, are non-English speakers. \nFor most programs\, YPT receives assistance from our partner organization to provide translation to the participants. The program seeks to enhance and integrate learning and literacy among young children by enabling the use of creativity\, emotional expression and sensory stimulation. The programs run from October to May.
URL:https://www.youngpeoplestheatre.org/event/drama-time/2016-10-05/
LOCATION:Syme Woolner Neighbourhood & Family Centre\, 69 Pritchard Ave\, Toronto\, ON\, M6N1T3\, Canada
CATEGORIES:Artist Residency,Communities,Parent & Toddler
GEO:43.6699106;-79.4911847
X-APPLE-STRUCTURED-LOCATION;VALUE=URI;X-ADDRESS=Syme Woolner Neighbourhood & Family Centre 69 Pritchard Ave Toronto ON M6N1T3 Canada;X-APPLE-RADIUS=500;X-TITLE=69 Pritchard Ave:geo:-79.4911847,43.6699106
END:VEVENT
END:VCALENDAR