BEGIN:VCALENDAR
VERSION:2.0
PRODID:-//Young People&#039;s Theatre - ECPv6.15.16.1//NONSGML v1.0//EN
CALSCALE:GREGORIAN
METHOD:PUBLISH
X-ORIGINAL-URL:https://www.youngpeoplestheatre.org
X-WR-CALDESC:Events for Young People&#039;s Theatre
REFRESH-INTERVAL;VALUE=DURATION:PT1H
X-Robots-Tag:noindex
X-PUBLISHED-TTL:PT1H
BEGIN:VTIMEZONE
TZID:America/Toronto
BEGIN:DAYLIGHT
TZOFFSETFROM:-0500
TZOFFSETTO:-0400
TZNAME:EDT
DTSTART:20200308T070000
END:DAYLIGHT
BEGIN:STANDARD
TZOFFSETFROM:-0400
TZOFFSETTO:-0500
TZNAME:EST
DTSTART:20201101T060000
END:STANDARD
BEGIN:DAYLIGHT
TZOFFSETFROM:-0500
TZOFFSETTO:-0400
TZNAME:EDT
DTSTART:20210314T070000
END:DAYLIGHT
BEGIN:STANDARD
TZOFFSETFROM:-0400
TZOFFSETTO:-0500
TZNAME:EST
DTSTART:20211107T060000
END:STANDARD
BEGIN:DAYLIGHT
TZOFFSETFROM:-0500
TZOFFSETTO:-0400
TZNAME:EDT
DTSTART:20220313T070000
END:DAYLIGHT
BEGIN:STANDARD
TZOFFSETFROM:-0400
TZOFFSETTO:-0500
TZNAME:EST
DTSTART:20221106T060000
END:STANDARD
END:VTIMEZONE
BEGIN:VEVENT
DTSTART;TZID=America/Toronto:20211016T150000
DTEND;TZID=America/Toronto:20211016T170000
DTSTAMP:20260424T054557
CREATED:20211014T185343Z
LAST-MODIFIED:20211014T185343Z
UID:35601-1634396400-1634403600@www.youngpeoplestheatre.org
SUMMARY:Actor’s Craft (In-Person)
DESCRIPTION:Actor’s Craft (In-Person)\nGrades 9-12 \nSaturdays\n(Oct. 16 – Dec. 4)\n3PM – 5PM \nLocation: RBC WaterPark Place \nA stimulating and inspiring introduction to actor training and stagecraft\, this script-based class exposes students to a selection of influential playwrights and acting techniques as they learn to perform a variety of characters. (120 minutes) \nLearn More 
URL:https://www.youngpeoplestheatre.org/event/actors-craft-in-person/2021-10-16/
LOCATION:RBC WaterPark Place\, 88 Queens Quay W.\, Toronto\, Ontario\, M5J 0B6\, Canada
CATEGORIES:Grades 9 - 12
ATTACH;FMTTYPE=image/png:https://www.youngpeoplestheatre.org/wp-content/uploads/2021/10/Final-Saturday-In-Person-Classes-banner-.png
ORGANIZER;CN="YPT Drama School":MAILTO:YPTDramaSchool@youngpeoplestheatre.org
END:VEVENT
BEGIN:VEVENT
DTSTART;TZID=America/Toronto:20211016T123000
DTEND;TZID=America/Toronto:20211016T143000
DTSTAMP:20260424T054557
CREATED:20211014T185108Z
LAST-MODIFIED:20211014T185547Z
UID:35592-1634387400-1634394600@www.youngpeoplestheatre.org
SUMMARY:Gr. 7-8B Drama Class (In-Person)
DESCRIPTION:Gr. 7-8B Drama Class (In-Person)\nSaturdays\n(Oct. 16 – Dec. 4)\n12:30PM – 2:30PM \nLocation: RBC WaterPark Place \nStudents of all levels are welcome! Participants will engage in a variety of physical\, vocal and improvisation games and exercises\, developing confidence in their ideas\, expression\, ability to create on their feet and collaborate as an ensemble. Classes will explore how an actor prepares to perform\, as well as introducing the basic principles of improvisation and character creation. (120 minutes) \nLearn More 
URL:https://www.youngpeoplestheatre.org/event/gr-7-8b-drama-class-in-person/2021-10-16/
LOCATION:RBC WaterPark Place\, 88 Queens Quay W.\, Toronto\, Ontario\, M5J 0B6\, Canada
CATEGORIES:Grades 7-8
ATTACH;FMTTYPE=image/png:https://www.youngpeoplestheatre.org/wp-content/uploads/2021/10/Final-Saturday-In-Person-Classes-banner-.png
ORGANIZER;CN="YPT Drama School":MAILTO:YPTDramaSchool@youngpeoplestheatre.org
END:VEVENT
BEGIN:VEVENT
DTSTART;TZID=America/Toronto:20211016T100000
DTEND;TZID=America/Toronto:20211016T120000
DTSTAMP:20260424T054557
CREATED:20211014T184926Z
LAST-MODIFIED:20211014T185430Z
UID:35581-1634378400-1634385600@www.youngpeoplestheatre.org
SUMMARY:Gr. 7-8A Drama Class (In-Person)
DESCRIPTION:Gr. 7-8A Drama Class (In-Person)\nSaturdays\n(Oct. 16 – Dec. 4)\n10AM – 12PM \nLocation: RBC WaterPark Place \nStudents of all levels are welcome! Participants will engage in a variety of physical\, vocal and improvisation games and exercises\, developing confidence in their ideas\, expression\, ability to create on their feet and collaborate as an ensemble. Classes will explore how an actor prepares to perform\, as well as introducing the basic principles of improvisation and character creation. (120 minutes) \nLearn More 
URL:https://www.youngpeoplestheatre.org/event/gr-7-8a-drama-class-in-person/2021-10-16/
LOCATION:RBC WaterPark Place\, 88 Queens Quay W.\, Toronto\, Ontario\, M5J 0B6\, Canada
CATEGORIES:Grades 7-8
ATTACH;FMTTYPE=image/png:https://www.youngpeoplestheatre.org/wp-content/uploads/2021/10/Final-Saturday-In-Person-Classes-banner-.png
ORGANIZER;CN="YPT Drama School":MAILTO:YPTDramaSchool@youngpeoplestheatre.org
END:VEVENT
END:VCALENDAR