BEGIN:VCALENDAR
VERSION:2.0
PRODID:-//Young People&#039;s Theatre - ECPv6.15.16.1//NONSGML v1.0//EN
CALSCALE:GREGORIAN
METHOD:PUBLISH
X-WR-CALNAME:Young People&#039;s Theatre
X-ORIGINAL-URL:https://www.youngpeoplestheatre.org
X-WR-CALDESC:Events for Young People&#039;s Theatre
REFRESH-INTERVAL;VALUE=DURATION:PT1H
X-Robots-Tag:noindex
X-PUBLISHED-TTL:PT1H
BEGIN:VTIMEZONE
TZID:America/Toronto
BEGIN:DAYLIGHT
TZOFFSETFROM:-0500
TZOFFSETTO:-0400
TZNAME:EDT
DTSTART:20150308T070000
END:DAYLIGHT
BEGIN:STANDARD
TZOFFSETFROM:-0400
TZOFFSETTO:-0500
TZNAME:EST
DTSTART:20151101T060000
END:STANDARD
BEGIN:DAYLIGHT
TZOFFSETFROM:-0500
TZOFFSETTO:-0400
TZNAME:EDT
DTSTART:20160313T070000
END:DAYLIGHT
BEGIN:STANDARD
TZOFFSETFROM:-0400
TZOFFSETTO:-0500
TZNAME:EST
DTSTART:20161106T060000
END:STANDARD
BEGIN:DAYLIGHT
TZOFFSETFROM:-0500
TZOFFSETTO:-0400
TZNAME:EDT
DTSTART:20170312T070000
END:DAYLIGHT
BEGIN:STANDARD
TZOFFSETFROM:-0400
TZOFFSETTO:-0500
TZNAME:EST
DTSTART:20171105T060000
END:STANDARD
BEGIN:DAYLIGHT
TZOFFSETFROM:-0500
TZOFFSETTO:-0400
TZNAME:EDT
DTSTART:20180311T070000
END:DAYLIGHT
BEGIN:STANDARD
TZOFFSETFROM:-0400
TZOFFSETTO:-0500
TZNAME:EST
DTSTART:20181104T060000
END:STANDARD
END:VTIMEZONE
BEGIN:VEVENT
DTSTART;TZID=America/Toronto:20171106T104500
DTEND;TZID=America/Toronto:20171106T114500
DTSTAMP:20260425T145107
CREATED:20171106T182245Z
LAST-MODIFIED:20171124T202150Z
UID:18483-1509965100-1509968700@www.youngpeoplestheatre.org
SUMMARY:Drama Time - Parent Resources
DESCRIPTION:Drama Time – Parent Resources\n1117 Gerrard Street East \n10:45AM – 11:45AM
URL:https://www.youngpeoplestheatre.org/event/drama-time-parent-resources-2/2017-11-06/
LOCATION:Parent Resources Drop-In Centre\, 1117 Gerrard St E\, Toronto\, ON\, M4M 1Z9\, Canada
CATEGORIES:Families,General Public
GEO:43.669462;-79.3334876
X-APPLE-STRUCTURED-LOCATION;VALUE=URI;X-ADDRESS=Parent Resources Drop-In Centre 1117 Gerrard St E Toronto ON M4M 1Z9 Canada;X-APPLE-RADIUS=500;X-TITLE=1117 Gerrard St E:geo:-79.3334876,43.669462
END:VEVENT
BEGIN:VEVENT
DTSTART;TZID=America/Toronto:20160919T104500
DTEND;TZID=America/Toronto:20160919T113000
DTSTAMP:20260425T145107
CREATED:20160831T181035Z
LAST-MODIFIED:20161207T171225Z
UID:12429-1474281900-1474284600@www.youngpeoplestheatre.org
SUMMARY:Drama Time Program - Parent Resources Drop-In Centre
DESCRIPTION:Drama Time – Parent Resources\nParent Resources  is a family drop-in centre in the South Riverdale neighbourhood that offers programs for infants\, children and caretakers/parents. YPT provides support to the organization by facilitating a year-long artist residency for children from 0-4 years of age\, with an average of 15 infants and toddlers at each session. The majority of the participants\, both caregivers and children\, are non-English speakers. \nFor most sessions we have a Parent Resources staff member assisting by translating our facilitation to the participants. Our 45-minute sessions take place at the centre on Mondays and explore a particular theme through reading\, dramatization\, song and craft making. The program seeks to enhance and integrate learning and literacy among young children by enabling the use of creativity\, emotional expression and sensory stimulation. \nThis is a program of The Ada Slaight Education Centre at YPT\, established through a generous donation from The Slaight Family Foundation. \nFor more information about Parent Resources please visit: http://parentresourcesdropin.ca/
URL:https://www.youngpeoplestheatre.org/event/drama-time-parent-resources/2016-09-19/
LOCATION:Parent Resources Drop-In Centre\, 1117 Gerrard St E\, Toronto\, ON\, M4M 1Z9\, Canada
CATEGORIES:Artist Residency,Communities,Parent & Toddler
GEO:43.669462;-79.3334876
X-APPLE-STRUCTURED-LOCATION;VALUE=URI;X-ADDRESS=Parent Resources Drop-In Centre 1117 Gerrard St E Toronto ON M4M 1Z9 Canada;X-APPLE-RADIUS=500;X-TITLE=1117 Gerrard St E:geo:-79.3334876,43.669462
END:VEVENT
END:VCALENDAR