BEGIN:VCALENDAR
VERSION:2.0
PRODID:-//Young People&#039;s Theatre - ECPv6.15.16.1//NONSGML v1.0//EN
CALSCALE:GREGORIAN
METHOD:PUBLISH
X-WR-CALNAME:Young People&#039;s Theatre
X-ORIGINAL-URL:https://www.youngpeoplestheatre.org
X-WR-CALDESC:Events for Young People&#039;s Theatre
REFRESH-INTERVAL;VALUE=DURATION:PT1H
X-Robots-Tag:noindex
X-PUBLISHED-TTL:PT1H
BEGIN:VTIMEZONE
TZID:America/Toronto
BEGIN:DAYLIGHT
TZOFFSETFROM:-0500
TZOFFSETTO:-0400
TZNAME:EDT
DTSTART:20160313T070000
END:DAYLIGHT
BEGIN:STANDARD
TZOFFSETFROM:-0400
TZOFFSETTO:-0500
TZNAME:EST
DTSTART:20161106T060000
END:STANDARD
BEGIN:DAYLIGHT
TZOFFSETFROM:-0500
TZOFFSETTO:-0400
TZNAME:EDT
DTSTART:20170312T070000
END:DAYLIGHT
BEGIN:STANDARD
TZOFFSETFROM:-0400
TZOFFSETTO:-0500
TZNAME:EST
DTSTART:20171105T060000
END:STANDARD
BEGIN:DAYLIGHT
TZOFFSETFROM:-0500
TZOFFSETTO:-0400
TZNAME:EDT
DTSTART:20180311T070000
END:DAYLIGHT
BEGIN:STANDARD
TZOFFSETFROM:-0400
TZOFFSETTO:-0500
TZNAME:EST
DTSTART:20181104T060000
END:STANDARD
END:VTIMEZONE
BEGIN:VEVENT
DTSTART;TZID=America/Toronto:20170424T180000
DTEND;TZID=America/Toronto:20170424T180000
DTSTAMP:20260423T210425
CREATED:20170306T214100Z
LAST-MODIFIED:20170306T214100Z
UID:15748-1493056800-1493056800@www.youngpeoplestheatre.org
SUMMARY:Training Social for Theatre Students
DESCRIPTION:As an emerging actor\, do you want to learn and connect beyond your respective training programs? Do you find there are few opportunities to do just that? \nYPT is hosting an event to facilitate creative exchange between actor training programs. This mixer is geared toward those currently training to be a professional actor at one of Canada’s theatre schools. Students at all levels of training are welcome. \nParticipate in one of three different workshops: \n\nHow Can Physical Theatre Create Ensemble? with Mary Ellen MacLean\nHow Can I Continue to Act While I Sing? with Thom Allison\nWhat are Action Verbs and How on Earth are They Supposed to Help Me?! with YPT Artistic Director\, Allen MacInnis\n\n \nMonday\, April 24\, 2017 6PM \n6PM Registration & Introductions\n6:15-8:15PM Training Workshops\n8:15-9PM Roundtable\n9PM Social \n Space is limited. Advance registration is required. \nTo register\, please send an e-mail with the following information to: \nLois Adamson\, Interim Artistic Associate\, Education \n\nName\nProgram\, School & Year of Study\nYour Order of Preference for the Three Workshops Offered (We will try to provide you with your first choice\, but registration is first-come-first-served.)
URL:https://www.youngpeoplestheatre.org/event/training-social-theatre-students/
LOCATION:Young People’s Theatre\, 165 Front St. E\, Toronto\, Ontario\, M5A 3Z4\, Canada
CATEGORIES:Students
GEO:43.6500103;-79.3682912
X-APPLE-STRUCTURED-LOCATION;VALUE=URI;X-ADDRESS=Young People’s Theatre 165 Front St. E Toronto Ontario M5A 3Z4 Canada;X-APPLE-RADIUS=500;X-TITLE=165 Front St. E:geo:-79.3682912,43.6500103
END:VEVENT
END:VCALENDAR