BEGIN:VCALENDAR
VERSION:2.0
PRODID:-//Young People&#039;s Theatre - ECPv6.15.16.1//NONSGML v1.0//EN
CALSCALE:GREGORIAN
METHOD:PUBLISH
X-ORIGINAL-URL:https://www.youngpeoplestheatre.org
X-WR-CALDESC:Events for Young People&#039;s Theatre
REFRESH-INTERVAL;VALUE=DURATION:PT1H
X-Robots-Tag:noindex
X-PUBLISHED-TTL:PT1H
BEGIN:VTIMEZONE
TZID:America/Toronto
BEGIN:DAYLIGHT
TZOFFSETFROM:-0500
TZOFFSETTO:-0400
TZNAME:EDT
DTSTART:20180311T070000
END:DAYLIGHT
BEGIN:STANDARD
TZOFFSETFROM:-0400
TZOFFSETTO:-0500
TZNAME:EST
DTSTART:20181104T060000
END:STANDARD
BEGIN:DAYLIGHT
TZOFFSETFROM:-0500
TZOFFSETTO:-0400
TZNAME:EDT
DTSTART:20190310T070000
END:DAYLIGHT
BEGIN:STANDARD
TZOFFSETFROM:-0400
TZOFFSETTO:-0500
TZNAME:EST
DTSTART:20191103T060000
END:STANDARD
BEGIN:DAYLIGHT
TZOFFSETFROM:-0500
TZOFFSETTO:-0400
TZNAME:EDT
DTSTART:20200308T070000
END:DAYLIGHT
BEGIN:STANDARD
TZOFFSETFROM:-0400
TZOFFSETTO:-0500
TZNAME:EST
DTSTART:20201101T060000
END:STANDARD
END:VTIMEZONE
BEGIN:VEVENT
DTSTART;TZID=America/Toronto:20190311T080000
DTEND;TZID=America/Toronto:20190315T170000
DTSTAMP:20260425T082913
CREATED:20190109T171132Z
LAST-MODIFIED:20190109T171132Z
UID:24687-1552291200-1552669200@www.youngpeoplestheatre.org
SUMMARY:March Break Drama Camp
DESCRIPTION:March Break Drama Camp\nRegistration for 2019 now open!\nJK-Grade 6\nDowntown & North York \n\nSee details here. \nDowntown Toronto March 11 – 15\, 2019 \n\nDowntown March Break Camp will be held at Young People’s Theatre (165 Front Street East) & other locations near to the theatre. \nOn Tuesday\, March 12 students will attend an 11am performance of The 26 Letter Dance as part of their camp experience. \n  \nNorth York March 11 – 15\, 2019 \nNorth York March Break Camp will be held at Cardinal Carter Academy for the Arts. \nAll students enrolled in the North York March Break camp receive one FREE YOUTH TICKET to any show in our 2018/19 season. Please visit the website for details\, or call the Box Office at 416.862.2222 with a show and date in mind.
URL:https://www.youngpeoplestheatre.org/event/march-break-drama-camp/
LOCATION:Young People’s Theatre\, 165 Front St. E\, Toronto\, Ontario\, M5A 3Z4\, Canada
CATEGORIES:children,General Public,JK-Grade 6
ATTACH;FMTTYPE=image/png:https://www.youngpeoplestheatre.org/wp-content/uploads/2019/01/March-Break-1920-x-890-1.png
ORGANIZER;CN="YPT Drama School":MAILTO:YPTDramaSchool@youngpeoplestheatre.org
GEO:43.6500103;-79.3682912
X-APPLE-STRUCTURED-LOCATION;VALUE=URI;X-ADDRESS=Young People’s Theatre 165 Front St. E Toronto Ontario M5A 3Z4 Canada;X-APPLE-RADIUS=500;X-TITLE=165 Front St. E:geo:-79.3682912,43.6500103
END:VEVENT
END:VCALENDAR