BEGIN:VCALENDAR
VERSION:2.0
PRODID:-//Young People&#039;s Theatre - ECPv6.15.16.1//NONSGML v1.0//EN
CALSCALE:GREGORIAN
METHOD:PUBLISH
X-ORIGINAL-URL:https://www.youngpeoplestheatre.org
X-WR-CALDESC:Events for Young People&#039;s Theatre
REFRESH-INTERVAL;VALUE=DURATION:PT1H
X-Robots-Tag:noindex
X-PUBLISHED-TTL:PT1H
BEGIN:VTIMEZONE
TZID:America/Toronto
BEGIN:DAYLIGHT
TZOFFSETFROM:-0500
TZOFFSETTO:-0400
TZNAME:EDT
DTSTART:20150308T070000
END:DAYLIGHT
BEGIN:STANDARD
TZOFFSETFROM:-0400
TZOFFSETTO:-0500
TZNAME:EST
DTSTART:20151101T060000
END:STANDARD
BEGIN:DAYLIGHT
TZOFFSETFROM:-0500
TZOFFSETTO:-0400
TZNAME:EDT
DTSTART:20160313T070000
END:DAYLIGHT
BEGIN:STANDARD
TZOFFSETFROM:-0400
TZOFFSETTO:-0500
TZNAME:EST
DTSTART:20161106T060000
END:STANDARD
BEGIN:DAYLIGHT
TZOFFSETFROM:-0500
TZOFFSETTO:-0400
TZNAME:EDT
DTSTART:20170312T070000
END:DAYLIGHT
BEGIN:STANDARD
TZOFFSETFROM:-0400
TZOFFSETTO:-0500
TZNAME:EST
DTSTART:20171105T060000
END:STANDARD
END:VTIMEZONE
BEGIN:VEVENT
DTSTART;TZID=America/Toronto:20160707T090000
DTEND;TZID=America/Toronto:20160707T160000
DTSTAMP:20260423T164149
CREATED:20160802T180922Z
LAST-MODIFIED:20160802T181036Z
UID:11965-1467882000-1467907200@www.youngpeoplestheatre.org
SUMMARY:H.appi Camper Drama Session
DESCRIPTION:Every Thursday in July\, YPT facilitates drama sessions with H.appi Camper – a camp for 75 Syrian children spending their first summer in Canada. The camp runs from July 4 – July 29. \nH.appi Camper is “a culturally sensitive summer camp program targeted at Syrian refugee children and adults residing in the Greater Toronto Area. The purpose of this camp is to (a) help integrate Syrian refugees into Canadian communities\, (b) improve their literacy and English language skills\, and (c) improve their quality of life by ameliorating their emotional and mental health.” \nRead more about H.appi Camper here.
URL:https://www.youngpeoplestheatre.org/event/h-appi-camper/2016-07-07/
LOCATION:Victoria Park Collegiate Institute\, 15 Wallingford Rd.\, Toronto\, Ontario\, M3A 2V1\, Canada
CATEGORIES:children,Communities,Workshop
GEO:43.7556958;-79.3215631
X-APPLE-STRUCTURED-LOCATION;VALUE=URI;X-ADDRESS=Victoria Park Collegiate Institute 15 Wallingford Rd. Toronto Ontario M3A 2V1 Canada;X-APPLE-RADIUS=500;X-TITLE=15 Wallingford Rd.:geo:-79.3215631,43.7556958
END:VEVENT
END:VCALENDAR