BEGIN:VCALENDAR
VERSION:2.0
PRODID:-//Young People&#039;s Theatre - ECPv6.15.16.1//NONSGML v1.0//EN
CALSCALE:GREGORIAN
METHOD:PUBLISH
X-ORIGINAL-URL:https://www.youngpeoplestheatre.org
X-WR-CALDESC:Events for Young People&#039;s Theatre
REFRESH-INTERVAL;VALUE=DURATION:PT1H
X-Robots-Tag:noindex
X-PUBLISHED-TTL:PT1H
BEGIN:VTIMEZONE
TZID:America/Toronto
BEGIN:DAYLIGHT
TZOFFSETFROM:-0500
TZOFFSETTO:-0400
TZNAME:EDT
DTSTART:20160313T070000
END:DAYLIGHT
BEGIN:STANDARD
TZOFFSETFROM:-0400
TZOFFSETTO:-0500
TZNAME:EST
DTSTART:20161106T060000
END:STANDARD
BEGIN:DAYLIGHT
TZOFFSETFROM:-0500
TZOFFSETTO:-0400
TZNAME:EDT
DTSTART:20170312T070000
END:DAYLIGHT
BEGIN:STANDARD
TZOFFSETFROM:-0400
TZOFFSETTO:-0500
TZNAME:EST
DTSTART:20171105T060000
END:STANDARD
BEGIN:DAYLIGHT
TZOFFSETFROM:-0500
TZOFFSETTO:-0400
TZNAME:EDT
DTSTART:20180311T070000
END:DAYLIGHT
BEGIN:STANDARD
TZOFFSETFROM:-0400
TZOFFSETTO:-0500
TZNAME:EST
DTSTART:20181104T060000
END:STANDARD
END:VTIMEZONE
BEGIN:VEVENT
DTSTART;TZID=America/Toronto:20170303T101500
DTEND;TZID=America/Toronto:20170303T114500
DTSTAMP:20260425T105851
CREATED:20170206T171415Z
LAST-MODIFIED:20170206T173722Z
UID:15316-1488536100-1488541500@www.youngpeoplestheatre.org
SUMMARY:Everyone's a Critic
DESCRIPTION:James and the Giant Peach Post-Show Q&A \nFriday\, March 3\, 2017\n10:15AM Performance \nRecognizing that the most common assignment given to students in connection with their visit to YPT is a play review\, we developed\, in collaboration with Jon Kaplan of NOW Magazine\, a post-show Q&A specifically about the art of writing reviews. Jon Kaplan also provides a short paragraph in each of our study guides entitled “Tips for Student Reviewers”. In 2015/16\, we built on the success of these sessions and engaged a student reviewer\, Sayak Sneddon-Ghosal\, to facilitate these sessions. Sayak\, a Grade 8 student\, will continue facilitating the sessions in 2016/17. \nJames and the Giant Peach \nWords and Music by Benj Pasek and Justin Paul\nBook by Timothy Allen McDonald\nBased on the book James and the Giant Peach\nby Roald Dahl\nDirected by Nina Lee Aquino \nOn the Mainstage Feb. 6-Mar. 18\, 2017 including March Break!\nJOIN US FOR FAMILY DAY ON FEB. 20 – INCLUDES FREE CRAFT ACTIVITIES!\nRecommended for Grades 1 to 6 | ages 6 & up\nRuns approx. 85 min.\nThis rollicking musical version of the beloved children’s classic returns due to overwhelming demand after a nearly sold-out run in 2014. A wonderfully whimsical journey to warm up the winter months. Look for the giant peach on YPT’s roof! \n“… theatre for young audiences as it should be: tasty and entertaining but with something to chew on as well.”\n– Toronto Star \nRoald Dahl’s James and the Giant Peach is presented through special arrangement with Music Theatre International (MTI). All authorized performance materials are also supplied by MTI. www.MTIShows.com \n 
URL:https://www.youngpeoplestheatre.org/event/everyones-a-critic/
LOCATION:Young People’s Theatre\, 165 Front St. E\, Toronto\, Ontario\, M5A 3Z4\, Canada
CATEGORIES:6 & up,Grades 1-6,Schools
ATTACH;FMTTYPE=image/jpeg:https://www.youngpeoplestheatre.org/wp-content/uploads/2016/05/YPT_James_banner2.jpg
GEO:43.6500103;-79.3682912
X-APPLE-STRUCTURED-LOCATION;VALUE=URI;X-ADDRESS=Young People’s Theatre 165 Front St. E Toronto Ontario M5A 3Z4 Canada;X-APPLE-RADIUS=500;X-TITLE=165 Front St. E:geo:-79.3682912,43.6500103
END:VEVENT
END:VCALENDAR