BEGIN:VCALENDAR
VERSION:2.0
PRODID:-//Young People&#039;s Theatre - ECPv6.15.16.1//NONSGML v1.0//EN
CALSCALE:GREGORIAN
METHOD:PUBLISH
X-WR-CALNAME:Young People&#039;s Theatre
X-ORIGINAL-URL:https://www.youngpeoplestheatre.org
X-WR-CALDESC:Events for Young People&#039;s Theatre
REFRESH-INTERVAL;VALUE=DURATION:PT1H
X-Robots-Tag:noindex
X-PUBLISHED-TTL:PT1H
BEGIN:VTIMEZONE
TZID:America/Toronto
BEGIN:DAYLIGHT
TZOFFSETFROM:-0500
TZOFFSETTO:-0400
TZNAME:EDT
DTSTART:20140309T070000
END:DAYLIGHT
BEGIN:STANDARD
TZOFFSETFROM:-0400
TZOFFSETTO:-0500
TZNAME:EST
DTSTART:20141102T060000
END:STANDARD
BEGIN:DAYLIGHT
TZOFFSETFROM:-0500
TZOFFSETTO:-0400
TZNAME:EDT
DTSTART:20150308T070000
END:DAYLIGHT
BEGIN:STANDARD
TZOFFSETFROM:-0400
TZOFFSETTO:-0500
TZNAME:EST
DTSTART:20151101T060000
END:STANDARD
BEGIN:DAYLIGHT
TZOFFSETFROM:-0500
TZOFFSETTO:-0400
TZNAME:EDT
DTSTART:20160313T070000
END:DAYLIGHT
BEGIN:STANDARD
TZOFFSETFROM:-0400
TZOFFSETTO:-0500
TZNAME:EST
DTSTART:20161106T060000
END:STANDARD
END:VTIMEZONE
BEGIN:VEVENT
DTSTART;TZID=America/Toronto:20151216T180000
DTEND;TZID=America/Toronto:20151216T193000
DTSTAMP:20260423T190146
CREATED:20151211T191244Z
LAST-MODIFIED:20151211T191244Z
UID:8256-1450288800-1450294200@www.youngpeoplestheatre.org
SUMMARY:Cultural Gym - Theme: Celebration
DESCRIPTION:The Cultural Gym\, YPT’s newest community program\, is an opportunity for both children and adults to exercise their creative muscles! Cultural Gym sessions will introduce specific aspects of theatre and performance to help participants develop new drama-based skills. Four different sessions will be offered throughout our 2015/16 season\, each with a unique focus and led by professional artists. Come challenge yourself in new ways and be part of an artistic community! \nSession #2: Intro to Collective Creation with Rob Kempson\nFacilitated by one of YPT’s Resident Artist Educators\, Rob Kempson\, you will learn the basic techniques of collective creation (theatre created by a group around a given theme)\, including writing\, staging\, and performance. Each week\, the theme will change and so will the creation. \nParticipants:\nWe welcome children\, youth and adults to attend the program! Children under the age of 12 must be accompanied by a participating adult. \nAbout Rob Kempson:\nRob Kempson is a theatre artist and educator\, working as a playwright\, composer\, performer\, and director. Rob was most recently seen starring in his Dora-nominated musical The Way Back To Thursday (Theatre Passe Muraille). As an artist-educator\, Rob has worked for a number of major school boards as well as Young People’s Theatre\, Canadian Stage\, Theatre Passe Muraille\, Pleiades Theatre\, Opera Atelier and Casa Loma. He works regularly as a community arts facilitator and curator\, collectively creating performances and interactive exhibits with community members. He is currently the Associate Artistic Director at the Thousand Islands Playhouse in Gananoque\, ON.\n\nRegistration:\nCultural Gym sessions are PWYC (Pay What You Can) with a recommended donation of $2 per session. \nSpace is limited. Pre-registration is recommended. To register please contact Amber Ebert\, School & Community Programs Manager at aebert@youngpeoplestheatre.org.
URL:https://www.youngpeoplestheatre.org/event/cultural-gym-theme-celebration/
CATEGORIES:All Ages,Communities,Families,General Public,Parents & Children
END:VEVENT
BEGIN:VEVENT
DTSTART;TZID=America/Toronto:20151209T180000
DTEND;TZID=America/Toronto:20151209T193000
DTSTAMP:20260423T190146
CREATED:20151211T190655Z
LAST-MODIFIED:20151211T190655Z
UID:8255-1449684000-1449689400@www.youngpeoplestheatre.org
SUMMARY:Cultural Gym -Theme: Hope
DESCRIPTION:The Cultural Gym\, YPT’s newest community program\, is an opportunity for both children and adults to exercise their creative muscles! Cultural Gym sessions will introduce specific aspects of theatre and performance to help participants develop new drama-based skills. Four different sessions will be offered throughout our 2015/16 season\, each with a unique focus and led by professional artists. Come challenge yourself in new ways and be part of an artistic community! \nSession #2: Intro to Collective Creation with Rob Kempson\nFacilitated by one of YPT’s Resident Artist Educators\, Rob Kempson\, you will learn the basic techniques of collective creation (theatre created by a group around a given theme)\, including writing\, staging\, and performance. Each week\, the theme will change and so will the creation. \nParticipants:\nWe welcome children\, youth and adults to attend the program! Children under the age of 12 must be accompanied by a participating adult. \nAbout Rob Kempson:\nRob Kempson is a theatre artist and educator\, working as a playwright\, composer\, performer\, and director. Rob was most recently seen starring in his Dora-nominated musical The Way Back To Thursday (Theatre Passe Muraille). As an artist-educator\, Rob has worked for a number of major school boards as well as Young People’s Theatre\, Canadian Stage\, Theatre Passe Muraille\, Pleiades Theatre\, Opera Atelier and Casa Loma. He works regularly as a community arts facilitator and curator\, collectively creating performances and interactive exhibits with community members. He is currently the Associate Artistic Director at the Thousand Islands Playhouse in Gananoque\, ON.\n\nRegistration:\nCultural Gym sessions are PWYC (Pay What You Can) with a recommended donation of $2 per session. \nSpace is limited. Pre-registration is recommended. To register please contact Amber Ebert\, School & Community Programs Manager at aebert@youngpeoplestheatre.org.
URL:https://www.youngpeoplestheatre.org/event/cultural-gym-theme-hope/
CATEGORIES:All Ages,Communities,Families,General Public,Parents & Children
END:VEVENT
END:VCALENDAR