BEGIN:VCALENDAR
VERSION:2.0
PRODID:-//Young People&#039;s Theatre - ECPv6.15.16.1//NONSGML v1.0//EN
CALSCALE:GREGORIAN
METHOD:PUBLISH
X-WR-CALNAME:Young People&#039;s Theatre
X-ORIGINAL-URL:https://www.youngpeoplestheatre.org
X-WR-CALDESC:Events for Young People&#039;s Theatre
REFRESH-INTERVAL;VALUE=DURATION:PT1H
X-Robots-Tag:noindex
X-PUBLISHED-TTL:PT1H
BEGIN:VTIMEZONE
TZID:America/Toronto
BEGIN:DAYLIGHT
TZOFFSETFROM:-0500
TZOFFSETTO:-0400
TZNAME:EDT
DTSTART:20150308T070000
END:DAYLIGHT
BEGIN:STANDARD
TZOFFSETFROM:-0400
TZOFFSETTO:-0500
TZNAME:EST
DTSTART:20151101T060000
END:STANDARD
BEGIN:DAYLIGHT
TZOFFSETFROM:-0500
TZOFFSETTO:-0400
TZNAME:EDT
DTSTART:20160313T070000
END:DAYLIGHT
BEGIN:STANDARD
TZOFFSETFROM:-0400
TZOFFSETTO:-0500
TZNAME:EST
DTSTART:20161106T060000
END:STANDARD
BEGIN:DAYLIGHT
TZOFFSETFROM:-0500
TZOFFSETTO:-0400
TZNAME:EDT
DTSTART:20170312T070000
END:DAYLIGHT
BEGIN:STANDARD
TZOFFSETFROM:-0400
TZOFFSETTO:-0500
TZNAME:EST
DTSTART:20171105T060000
END:STANDARD
END:VTIMEZONE
BEGIN:VEVENT
DTSTART;TZID=America/Toronto:20160307T183000
DTEND;TZID=America/Toronto:20160307T210000
DTSTAMP:20260423T190408
CREATED:20160224T155131Z
LAST-MODIFIED:20160224T155131Z
UID:9058-1457375400-1457384400@www.youngpeoplestheatre.org
SUMMARY:Parent Seminar: Borderline Personality Disorder
DESCRIPTION:Young People’s Theatre is pleased to partner with The Hincks-Dellcrest Centre – Gail Appel Institute to present “A Primer on Borderline Personality Disorder” Parent Seminar\, with Frank Yeomans MD\, PhD\, on March 7. \nBorderline Personality Disorder (BPD) is a common\, and commonly misunderstood\, condition that affects from 1.8 to 2 percent of the population. The symptoms of BPD include mood swings\, feelings of emptiness and loneliness\, inability to tolerate being alone\, relationship difficulties\, problems with eating\, and substance abuse. These symptoms\, combined with poor impulse control\, can lead to destructive and self-destructive behaviours. \nRegistration Fee: $20 (per session) \nThis session is the latest in a series of parent seminars held at YPT that offer practical skills to promote children’s well-being and improve the lives of families. Parents\, teachers and child development professionals will find these learning experiences filled with practical skills that can promote the well-being of children and improve the lives of families. \nThe Hincks-Dellcrest – Gail Appel Institute offers advanced education to those who work with children and families in a variety of mental health care professions and provides resources to parents and caregivers to support them with their children’s mental health care needs. Their mission is to build knowledge and capacity in children and families’ mental health. \nThe Hincks-Dellcrest Treatment Centre is a leading edge\, non-profit children’s mental health centre offering a comprehensive range of innovative mental health services to infants\, children\, youth\, and their families. Our vision is to bring hope\, optimism\, and possibilities to the children and families we serve. \nAll Parent Seminars run on the following schedule:\n6:30 PM – 7:00 PM: Doors open/registration\n7:00 PM – 8:30 PM: Presentation\n8:30 PM – 9:00 PM: Networking and book signing \nWorkshop participants can look forward to practical\, easy-to-implement strategies and creative approaches for parents that teach and encourage responsibility\, self-motivation\, and resiliency. There will be an emphasis on what is already working in our parenting. Participants will also share ideas for encouraging children to be solution builders in their own lives. \nFor more information or to register please visit: www.hincksdellcrest.org/institute
URL:https://www.youngpeoplestheatre.org/event/parent-seminar-a-primer-on-borderline-personality-disorder/
CATEGORIES:Communities,Parents/Guardians
END:VEVENT
END:VCALENDAR