BEGIN:VCALENDAR
VERSION:2.0
PRODID:-//Young People&#039;s Theatre - ECPv6.15.16.1//NONSGML v1.0//EN
CALSCALE:GREGORIAN
METHOD:PUBLISH
X-ORIGINAL-URL:https://www.youngpeoplestheatre.org
X-WR-CALDESC:Events for Young People&#039;s Theatre
REFRESH-INTERVAL;VALUE=DURATION:PT1H
X-Robots-Tag:noindex
X-PUBLISHED-TTL:PT1H
BEGIN:VTIMEZONE
TZID:America/Toronto
BEGIN:DAYLIGHT
TZOFFSETFROM:-0500
TZOFFSETTO:-0400
TZNAME:EDT
DTSTART:20160313T070000
END:DAYLIGHT
BEGIN:STANDARD
TZOFFSETFROM:-0400
TZOFFSETTO:-0500
TZNAME:EST
DTSTART:20161106T060000
END:STANDARD
BEGIN:DAYLIGHT
TZOFFSETFROM:-0500
TZOFFSETTO:-0400
TZNAME:EDT
DTSTART:20170312T070000
END:DAYLIGHT
BEGIN:STANDARD
TZOFFSETFROM:-0400
TZOFFSETTO:-0500
TZNAME:EST
DTSTART:20171105T060000
END:STANDARD
BEGIN:DAYLIGHT
TZOFFSETFROM:-0500
TZOFFSETTO:-0400
TZNAME:EDT
DTSTART:20180311T070000
END:DAYLIGHT
BEGIN:STANDARD
TZOFFSETFROM:-0400
TZOFFSETTO:-0500
TZNAME:EST
DTSTART:20181104T060000
END:STANDARD
BEGIN:DAYLIGHT
TZOFFSETFROM:-0500
TZOFFSETTO:-0400
TZNAME:EDT
DTSTART:20190310T070000
END:DAYLIGHT
BEGIN:STANDARD
TZOFFSETFROM:-0400
TZOFFSETTO:-0500
TZNAME:EST
DTSTART:20191103T060000
END:STANDARD
END:VTIMEZONE
BEGIN:VEVENT
DTSTART;TZID=America/Toronto:20180608T090000
DTEND;TZID=America/Toronto:20180608T153000
DTSTAMP:20260425T081901
CREATED:20170912T174031Z
LAST-MODIFIED:20171127T180749Z
UID:17824-1528448400-1528471800@www.youngpeoplestheatre.org
SUMMARY:PA Day - Play in a Day
DESCRIPTION:PA Days – Play in a Day\nOur first “Play in a Day” program for students in January\, 2016. Here they are creating their own script with YPT’s Resident Artist Educator Ramona Gilmour-Darling while others rehearse for their mysterious play about the Bermuda Triangle.\nYPT is running full-day workshops on PA Days in the TDSB/TCDSB for children in Grades 1-3 and 4-6. Each full-day workshop will run from 9AM to 3:30PM with early drop-off available from 8:30AM. These sessions are being offered at the specially-discounted price of $40 to $56 per participant. \nParticipants will experience fun drama exercises led by great artist educators\, culminating in a collaboratively-created “play in a day”. A backstage tour with a behind-the-scenes peek at the theatrical process is included. \nAt 3PM\, parents and caregivers are invited to come see a presentation of the play created that day. \n\n\n\n\n\n2017/18 Program Information\n\n\n\nDate\nAge Range\nTime\nFee\nNotes\n\n\nOctober 6\, 2017\n\nGr. 1 – 3 \nGr. 4 – 6\n9AM – 3:30PM\n$40\n\n\n\nNovember 17\, 2017\n\nGr. 1 – 3 \nGr. 4 – 6\n9AM – 4PM\n$56\nPrice includes one ticket to the 2:30PM performance of Beauty and the Beast.\n\n\nDecember 1\, 2017\nGr. 1 – 6\n9AM – 4PM\n$56\nPrice includes one ticket to the 1:30PM performance of Beauty and the Beast.\n\n\nJanuary 19\, 2018\n\nGr. 1 – 3 \nGr. 4 – 6\n9AM – 3:30PM\n$40\n\n\n\nFebruary 16\, 2018\n\nGr. 1 – 3 \nGr. 4 – 6\n9AM – 3:30PM\n$40\n\n\n\nJune 8\, 2018\n\nGr. 1 – 3 \nGr. 4 – 6\n9AM – 3:30PM\n$40\n\n\n\n\nYoung People’s Theatre 165 Front Street East\, Toronto\nFull-Day Workshop: $40-$56 per participant\nSpace is limited! Register here.
URL:https://www.youngpeoplestheatre.org/event/pa-day-play-day-11/
LOCATION:Young People’s Theatre\, 165 Front St. E\, Toronto\, Ontario\, M5A 3Z4\, Canada
CATEGORIES:children,Grades 1-6,Students
GEO:43.6500103;-79.3682912
X-APPLE-STRUCTURED-LOCATION;VALUE=URI;X-ADDRESS=Young People’s Theatre 165 Front St. E Toronto Ontario M5A 3Z4 Canada;X-APPLE-RADIUS=500;X-TITLE=165 Front St. E:geo:-79.3682912,43.6500103
END:VEVENT
BEGIN:VEVENT
DTSTART;TZID=America/Toronto:20180216T090000
DTEND;TZID=America/Toronto:20180216T153000
DTSTAMP:20260425T081901
CREATED:20170912T173906Z
LAST-MODIFIED:20170912T173906Z
UID:17822-1518771600-1518795000@www.youngpeoplestheatre.org
SUMMARY:PA Day - Play in a Day
DESCRIPTION:PA Days – Play in a Day\nOur first “Play in a Day” program for students in January\, 2016. Here they are creating their own script with YPT’s Resident Artist Educator Ramona Gilmour-Darling while others rehearse for their mysterious play about the Bermuda Triangle.\nYPT is running full-day workshops on PA Days in the TDSB/TCDSB for children in Grades 1-3 and 4-6. Each full-day workshop will run from 9AM to 3:30PM with early drop-off available from 8:30AM. These sessions are being offered at the specially-discounted price of $40 to $56 per participant. \nParticipants will experience fun drama exercises led by great artist educators\, culminating in a collaboratively-created “play in a day”. A backstage tour with a behind-the-scenes peek at the theatrical process is included. \nAt 3PM\, parents and caregivers are invited to come see a presentation of the play created that day. \n\n\n\n\n\n2017/18 Program Information\n\n\n\nDate\nAge Range\nTime\nFee\nNotes\n\n\nOctober 6\, 2017\n\nGr. 1 – 3 \nGr. 4 – 6\n9AM – 3:30PM\n$40\n\n\n\nNovember 17\, 2017\n\nGr. 1 – 3 \nGr. 4 – 6\n9AM – 4PM\n$56\nPrice includes one ticket to the 2:30PM performance of Beauty and the Beast.\n\n\nDecember 1\, 2017\nGr. 1 – 6\n9AM – 4PM\n$56\nPrice includes one ticket to the 10:15AM performance of Beauty and the Beast.\n\n\nJanuary 19\, 2018\n\nGr. 1 – 3 \nGr. 4 – 6\n9AM – 3:30PM\n$40\n\n\n\nFebruary 16\, 2018\n\nGr. 1 – 3 \nGr. 4 – 6\n9AM – 3:30PM\n$40\n\n\n\nJune 8\, 2018\n\nGr. 1 – 3 \nGr. 4 – 6\n9AM – 3:30PM\n$40\n\n\n\n\nYoung People’s Theatre 165 Front Street East\, Toronto\nFull-Day Workshop: $40-$56 per participant\nSpace is limited! Register here.
URL:https://www.youngpeoplestheatre.org/event/pa-day-play-day-10/
LOCATION:Young People’s Theatre\, 165 Front St. E\, Toronto\, Ontario\, M5A 3Z4\, Canada
CATEGORIES:children,Grades 1-6,Students
GEO:43.6500103;-79.3682912
X-APPLE-STRUCTURED-LOCATION;VALUE=URI;X-ADDRESS=Young People’s Theatre 165 Front St. E Toronto Ontario M5A 3Z4 Canada;X-APPLE-RADIUS=500;X-TITLE=165 Front St. E:geo:-79.3682912,43.6500103
END:VEVENT
BEGIN:VEVENT
DTSTART;TZID=America/Toronto:20180119T090000
DTEND;TZID=America/Toronto:20180119T153000
DTSTAMP:20260425T081901
CREATED:20170912T173642Z
LAST-MODIFIED:20170912T173642Z
UID:17820-1516352400-1516375800@www.youngpeoplestheatre.org
SUMMARY:PA Day - Play in a Day
DESCRIPTION:PA Days – Play in a Day\nOur first “Play in a Day” program for students in January\, 2016. Here they are creating their own script with YPT’s Resident Artist Educator Ramona Gilmour-Darling while others rehearse for their mysterious play about the Bermuda Triangle.\nYPT is running full-day workshops on PA Days in the TDSB/TCDSB for children in Grades 1-3 and 4-6. Each full-day workshop will run from 9AM to 3:30PM with early drop-off available from 8:30AM. These sessions are being offered at the specially-discounted price of $40 to $56 per participant. \nParticipants will experience fun drama exercises led by great artist educators\, culminating in a collaboratively-created “play in a day”. A backstage tour with a behind-the-scenes peek at the theatrical process is included. \nAt 3PM\, parents and caregivers are invited to come see a presentation of the play created that day. \n\n\n\n\n\n2017/18 Program Information\n\n\n\nDate\nAge Range\nTime\nFee\nNotes\n\n\nOctober 6\, 2017\n\nGr. 1 – 3 \nGr. 4 – 6\n9AM – 3:30PM\n$40\n\n\n\nNovember 17\, 2017\n\nGr. 1 – 3 \nGr. 4 – 6\n9AM – 4PM\n$56\nPrice includes one ticket to the 2:30PM performance of Beauty and the Beast.\n\n\nDecember 1\, 2017\nGr. 1 – 6\n9AM – 4PM\n$56\nPrice includes one ticket to the 10:15AM performance of Beauty and the Beast.\n\n\nJanuary 19\, 2018\n\nGr. 1 – 3 \nGr. 4 – 6\n9AM – 3:30PM\n$40\n\n\n\nFebruary 16\, 2018\n\nGr. 1 – 3 \nGr. 4 – 6\n9AM – 3:30PM\n$40\n\n\n\nJune 8\, 2018\n\nGr. 1 – 3 \nGr. 4 – 6\n9AM – 3:30PM\n$40\n\n\n\n\nYoung People’s Theatre 165 Front Street East\, Toronto\nFull-Day Workshop: $40-$56 per participant\nSpace is limited! Register here.
URL:https://www.youngpeoplestheatre.org/event/pa-day-play-day-9/
LOCATION:Young People’s Theatre\, 165 Front St. E\, Toronto\, Ontario\, M5A 3Z4\, Canada
CATEGORIES:children,Grades 1-6,Students
GEO:43.6500103;-79.3682912
X-APPLE-STRUCTURED-LOCATION;VALUE=URI;X-ADDRESS=Young People’s Theatre 165 Front St. E Toronto Ontario M5A 3Z4 Canada;X-APPLE-RADIUS=500;X-TITLE=165 Front St. E:geo:-79.3682912,43.6500103
END:VEVENT
BEGIN:VEVENT
DTSTART;TZID=America/Toronto:20171201T090000
DTEND;TZID=America/Toronto:20171201T160000
DTSTAMP:20260425T081901
CREATED:20170912T173506Z
LAST-MODIFIED:20170912T173506Z
UID:17818-1512118800-1512144000@www.youngpeoplestheatre.org
SUMMARY:PA Day - Play in a Day
DESCRIPTION:PA Days – Play in a Day\nOur first “Play in a Day” program for students in January\, 2016. Here they are creating their own script with YPT’s Resident Artist Educator Ramona Gilmour-Darling while others rehearse for their mysterious play about the Bermuda Triangle.\nYPT is running full-day workshops on PA Days in the TDSB/TCDSB for children in Grades 1-3 and 4-6. Each full-day workshop will run from 9AM to 3:30PM with early drop-off available from 8:30AM. These sessions are being offered at the specially-discounted price of $40 to $56 per participant. \nParticipants will experience fun drama exercises led by great artist educators\, culminating in a collaboratively-created “play in a day”. A backstage tour with a behind-the-scenes peek at the theatrical process is included. \nAt 3PM\, parents and caregivers are invited to come see a presentation of the play created that day. \n\n\n\n\n\n2017/18 Program Information\n\n\n\nDate\nAge Range\nTime\nFee\nNotes\n\n\nOctober 6\, 2017\n\nGr. 1 – 3 \nGr. 4 – 6\n9AM – 3:30PM\n$40\n\n\n\nNovember 17\, 2017\n\nGr. 1 – 3 \nGr. 4 – 6\n9AM – 4PM\n$56\nPrice includes one ticket to the 2:30PM performance of Beauty and the Beast.\n\n\nDecember 1\, 2017\nGr. 1 – 6\n9AM – 4PM\n$56\nPrice includes one ticket to the 10:15AM performance of Beauty and the Beast.\n\n\nJanuary 19\, 2018\n\nGr. 1 – 3 \nGr. 4 – 6\n9AM – 3:30PM\n$40\n\n\n\nFebruary 16\, 2018\n\nGr. 1 – 3 \nGr. 4 – 6\n9AM – 3:30PM\n$40\n\n\n\nJune 8\, 2018\n\nGr. 1 – 3 \nGr. 4 – 6\n9AM – 3:30PM\n$40\n\n\n\n\nYoung People’s Theatre 165 Front Street East\, Toronto\nFull-Day Workshop: $40-$56 per participant\nSpace is limited! Register here.
URL:https://www.youngpeoplestheatre.org/event/pa-day-play-day-8/
LOCATION:Young People’s Theatre\, 165 Front St. E\, Toronto\, Ontario\, M5A 3Z4\, Canada
CATEGORIES:children,Grades 1-6,Students
GEO:43.6500103;-79.3682912
X-APPLE-STRUCTURED-LOCATION;VALUE=URI;X-ADDRESS=Young People’s Theatre 165 Front St. E Toronto Ontario M5A 3Z4 Canada;X-APPLE-RADIUS=500;X-TITLE=165 Front St. E:geo:-79.3682912,43.6500103
END:VEVENT
BEGIN:VEVENT
DTSTART;TZID=America/Toronto:20171117T090000
DTEND;TZID=America/Toronto:20171117T160000
DTSTAMP:20260425T081901
CREATED:20170912T173318Z
LAST-MODIFIED:20171113T153828Z
UID:17816-1510909200-1510934400@www.youngpeoplestheatre.org
SUMMARY:PA Day - Play in a Day
DESCRIPTION:PA Days – Play in a Day\nOur first “Play in a Day” program for students in January\, 2016. Here they are creating their own script with YPT’s Resident Artist Educator Ramona Gilmour-Darling while others rehearse for their mysterious play about the Bermuda Triangle.\nYPT is running full-day workshops on PA Days in the TDSB/TCDSB for children in Grades 1-3 and 4-6. Each full-day workshop will run from 9AM to 3:30PM with early drop-off available from 8:30AM. These sessions are being offered at the specially-discounted price of $40 to $56 per participant. \nParticipants will experience fun drama exercises led by great artist educators\, culminating in a collaboratively-created “play in a day”. A backstage tour with a behind-the-scenes peek at the theatrical process is included. \nAt 3PM\, parents and caregivers are invited to come see a presentation of the play created that day. \n\n\n\n\n\n2017/18 Program Information\n\n\n\nDate\nAge Range\nTime\nFee\nNotes\n\n\nOctober 6\, 2017\n\nGr. 1 – 3 \nGr. 4 – 6\n9AM – 3:30PM\n$40\n\n\n\nNovember 17\, 2017\n\nGr. 1 – 3 (SOLD OUT) \nGr. 4 – 6 (6 Spots Left)\n9AM – 4PM\n$56\nPrice includes one ticket to the 2:30PM performance of Beauty and the Beast.\n\n\nDecember 1\, 2017\nGr. 1 – 6\n9AM – 4PM\n$56\nPrice includes one ticket to the 10:15AM performance of Beauty and the Beast.\n\n\nJanuary 19\, 2018\n\nGr. 1 – 3 \nGr. 4 – 6\n9AM – 3:30PM\n$40\n\n\n\nFebruary 16\, 2018\n\nGr. 1 – 3 \nGr. 4 – 6\n9AM – 3:30PM\n$40\n\n\n\nJune 8\, 2018\n\nGr. 1 – 3 \nGr. 4 – 6\n9AM – 3:30PM\n$40\n\n\n\n\nYoung People’s Theatre 165 Front Street East\, Toronto\nFull-Day Workshop: $40-$56 per participant\nSpace is limited! Register here.
URL:https://www.youngpeoplestheatre.org/event/pa-day-play-day-7/
LOCATION:Young People’s Theatre\, 165 Front St. E\, Toronto\, Ontario\, M5A 3Z4\, Canada
CATEGORIES:children,Grades 1-6,Students
GEO:43.6500103;-79.3682912
X-APPLE-STRUCTURED-LOCATION;VALUE=URI;X-ADDRESS=Young People’s Theatre 165 Front St. E Toronto Ontario M5A 3Z4 Canada;X-APPLE-RADIUS=500;X-TITLE=165 Front St. E:geo:-79.3682912,43.6500103
END:VEVENT
BEGIN:VEVENT
DTSTART;TZID=America/Toronto:20171006T090000
DTEND;TZID=America/Toronto:20171006T153000
DTSTAMP:20260425T081901
CREATED:20170912T173007Z
LAST-MODIFIED:20170912T173007Z
UID:17813-1507280400-1507303800@www.youngpeoplestheatre.org
SUMMARY:PA Day - Play in a Day
DESCRIPTION:PA Days – Play in a Day\nOur first “Play in a Day” program for students in January\, 2016. Here they are creating their own script with YPT’s Resident Artist Educator Ramona Gilmour-Darling while others rehearse for their mysterious play about the Bermuda Triangle.\nYPT is running full-day workshops on PA Days in the TDSB/TCDSB for children in Grades 1-3 and 4-6. Each full-day workshop will run from 9AM to 3:30PM with early drop-off available from 8:30AM. These sessions are being offered at the specially-discounted price of $40 to $56 per participant. \nParticipants will experience fun drama exercises led by great artist educators\, culminating in a collaboratively-created “play in a day”. A backstage tour with a behind-the-scenes peek at the theatrical process is included. \nAt 3PM\, parents and caregivers are invited to come see a presentation of the play created that day. \n\n\n\n\n\n2017/18 Program Information\n\n\n\nDate\nAge Range\nTime\nFee\nNotes\n\n\nOctober 6\, 2017\n\nGr. 1 – 3 \nGr. 4 – 6\n9AM – 3:30PM\n$40\n\n\n\nNovember 17\, 2017\n\nGr. 1 – 3 \nGr. 4 – 6\n9AM – 4PM\n$56\nPrice includes one ticket to the 2:30PM performance of Beauty and the Beast.\n\n\nDecember 1\, 2017\nGr. 1 – 6\n9AM – 4PM\n$56\nPrice includes one ticket to the 10:15AM performance of Beauty and the Beast.\n\n\nJanuary 19\, 2018\n\nGr. 1 – 3 \nGr. 4 – 6\n9AM – 3:30PM\n$40\n\n\n\nFebruary 16\, 2018\n\nGr. 1 – 3 \nGr. 4 – 6\n9AM – 3:30PM\n$40\n\n\n\nJune 8\, 2018\n\nGr. 1 – 3 \nGr. 4 – 6\n9AM – 3:30PM\n$40\n\n\n\n\nYoung People’s Theatre 165 Front Street East\, Toronto\nFull-Day Workshop: $40-$56 per participant\nSpace is limited! Register here.
URL:https://www.youngpeoplestheatre.org/event/pa-day-play-day-6/
LOCATION:Young People’s Theatre\, 165 Front St. E\, Toronto\, Ontario\, M5A 3Z4\, Canada
CATEGORIES:children,Grades 1-6,Students
GEO:43.6500103;-79.3682912
X-APPLE-STRUCTURED-LOCATION;VALUE=URI;X-ADDRESS=Young People’s Theatre 165 Front St. E Toronto Ontario M5A 3Z4 Canada;X-APPLE-RADIUS=500;X-TITLE=165 Front St. E:geo:-79.3682912,43.6500103
END:VEVENT
END:VCALENDAR