BEGIN:VCALENDAR
VERSION:2.0
PRODID:-//Young People&#039;s Theatre - ECPv6.15.16.1//NONSGML v1.0//EN
CALSCALE:GREGORIAN
METHOD:PUBLISH
X-ORIGINAL-URL:https://www.youngpeoplestheatre.org
X-WR-CALDESC:Events for Young People&#039;s Theatre
REFRESH-INTERVAL;VALUE=DURATION:PT1H
X-Robots-Tag:noindex
X-PUBLISHED-TTL:PT1H
BEGIN:VTIMEZONE
TZID:America/Toronto
BEGIN:DAYLIGHT
TZOFFSETFROM:-0500
TZOFFSETTO:-0400
TZNAME:EDT
DTSTART:20150308T070000
END:DAYLIGHT
BEGIN:STANDARD
TZOFFSETFROM:-0400
TZOFFSETTO:-0500
TZNAME:EST
DTSTART:20151101T060000
END:STANDARD
BEGIN:DAYLIGHT
TZOFFSETFROM:-0500
TZOFFSETTO:-0400
TZNAME:EDT
DTSTART:20160313T070000
END:DAYLIGHT
BEGIN:STANDARD
TZOFFSETFROM:-0400
TZOFFSETTO:-0500
TZNAME:EST
DTSTART:20161106T060000
END:STANDARD
BEGIN:DAYLIGHT
TZOFFSETFROM:-0500
TZOFFSETTO:-0400
TZNAME:EDT
DTSTART:20170312T070000
END:DAYLIGHT
BEGIN:STANDARD
TZOFFSETFROM:-0400
TZOFFSETTO:-0500
TZNAME:EST
DTSTART:20171105T060000
END:STANDARD
END:VTIMEZONE
BEGIN:VEVENT
DTSTART;TZID=America/Toronto:20160701T120000
DTEND;TZID=America/Toronto:20160701T140000
DTSTAMP:20260423T185805
CREATED:20160629T144409Z
LAST-MODIFIED:20160630T135409Z
UID:11425-1467374400-1467381600@www.youngpeoplestheatre.org
SUMMARY:Canada Day at St. James Park
DESCRIPTION:Canada Day at St. James Park\nOn Canada Day\, YPT is facilitating drama programming for the St. Lawrence Neighbourhood Association for 2 hours in St. James Park for families. \nYPT will have a booth and run a theatre-inspired craft where anyone is welcome to create their own set design for a play! \nSt. Lawrence Neighbourhood Association\nThe St. Lawrence Neighbourhood Association (SLNA) is an Association of residents in the St Lawrence area of the City of Toronto and is incorporated as a non-profit Corporation; the SLNA has served the St. Lawrence neighbourhood and its 30\,000 – 35\,000 residents since 1982. The SLNA is an advocate for responsible development and promotes public and pedestrian safety\, organises events and celebrations\, and champions our neighbourhood’s interests with all levels of government.
URL:https://www.youngpeoplestheatre.org/event/canada-day/
LOCATION:Saint James Park\, 120 King St E.\, Toronto\, Ontario\, M5C 1G6\, Canada
CATEGORIES:Communities,Families
GEO:43.6505765;-79.3725771
X-APPLE-STRUCTURED-LOCATION;VALUE=URI;X-ADDRESS=Saint James Park 120 King St E. Toronto Ontario M5C 1G6 Canada;X-APPLE-RADIUS=500;X-TITLE=120 King St E.:geo:-79.3725771,43.6505765
END:VEVENT
END:VCALENDAR