BEGIN:VCALENDAR
VERSION:2.0
PRODID:-//Young People&#039;s Theatre - ECPv6.15.16.1//NONSGML v1.0//EN
CALSCALE:GREGORIAN
METHOD:PUBLISH
X-WR-CALNAME:Young People&#039;s Theatre
X-ORIGINAL-URL:https://www.youngpeoplestheatre.org
X-WR-CALDESC:Events for Young People&#039;s Theatre
REFRESH-INTERVAL;VALUE=DURATION:PT1H
X-Robots-Tag:noindex
X-PUBLISHED-TTL:PT1H
BEGIN:VTIMEZONE
TZID:America/Toronto
BEGIN:DAYLIGHT
TZOFFSETFROM:-0500
TZOFFSETTO:-0400
TZNAME:EDT
DTSTART:20150308T070000
END:DAYLIGHT
BEGIN:STANDARD
TZOFFSETFROM:-0400
TZOFFSETTO:-0500
TZNAME:EST
DTSTART:20151101T060000
END:STANDARD
BEGIN:DAYLIGHT
TZOFFSETFROM:-0500
TZOFFSETTO:-0400
TZNAME:EDT
DTSTART:20160313T070000
END:DAYLIGHT
BEGIN:STANDARD
TZOFFSETFROM:-0400
TZOFFSETTO:-0500
TZNAME:EST
DTSTART:20161106T060000
END:STANDARD
BEGIN:DAYLIGHT
TZOFFSETFROM:-0500
TZOFFSETTO:-0400
TZNAME:EDT
DTSTART:20170312T070000
END:DAYLIGHT
BEGIN:STANDARD
TZOFFSETFROM:-0400
TZOFFSETTO:-0500
TZNAME:EST
DTSTART:20171105T060000
END:STANDARD
END:VTIMEZONE
BEGIN:VEVENT
DTSTART;VALUE=DATE:20160414
DTEND;VALUE=DATE:20160415
DTSTAMP:20260423T144045
CREATED:20160428T180923Z
LAST-MODIFIED:20160428T183555Z
UID:10074-1460592000-1460678399@www.youngpeoplestheatre.org
SUMMARY:TDSB Playwriting Festival
DESCRIPTION:TDSB Playwriting Festival\nWith a focus on playwriting\, students will discover and share their own voice and will practically apply what they learn by creating short plays of their own. These plays will then be shared with their peers\, teachers\, families and artists in a culminating festival day. Through facilitated sessions\, small group instruction and collaborative exploration with peers\, students will learn and develop their own work. They will employ strategies from the writing process and will use ensemble-based dramatic exercises to develop their own short plays. Students will also reflect on and discuss their learning experiences through online journaling throughout the process. \nIntroductory Seminar- March 22  \nWorking Sessions – March 24\, 29\, April 1\, 5\, 14\, 29\, May 3 \nPlaywriting Festival at YPT – May 9\nThe final day of YPT’s Playwriting Festival with Grades 6 and 8 in the TDSB takes place at YPT on May 9! Students will be able to see their final projects come to life as professional actors read their scripts.
URL:https://www.youngpeoplestheatre.org/event/tdsb-playwriting-festival-2016-03-30-2016-04-14/
LOCATION:Offsite
CATEGORIES:Grade 6,Grade 8,Schools,Teachers in the TDSB,Workshop
END:VEVENT
BEGIN:VEVENT
DTSTART;VALUE=DATE:20160401
DTEND;VALUE=DATE:20160402
DTSTAMP:20260423T144045
CREATED:20160428T180923Z
LAST-MODIFIED:20160428T183206Z
UID:10125-1459468800-1459555199@www.youngpeoplestheatre.org
SUMMARY:TDSB Playwriting Festival
DESCRIPTION:TDSB Playwriting Festival\nWith a focus on playwriting\, students will discover and share their own voice and will practically apply what they learn by creating short plays of their own. These plays will then be shared with their peers\, teachers\, families and artists in a culminating festival day. Through facilitated sessions\, small group instruction and collaborative exploration with peers\, students will learn and develop their own work. They will employ strategies from the writing process and will use ensemble-based dramatic exercises to develop their own short plays. Students will also reflect on and discuss their learning experiences through online journaling throughout the process. \nIntroductory Seminar- March 22  \nWorking Sessions – March 24\, 29\, April 1\, 5\, 14\, 29\, May 3 \nPlaywriting Festival at YPT – May 9\nThe final day of YPT’s Playwriting Festival with Grades 6 and 8 in the TDSB takes place at YPT on May 9! Students will be able to see their final projects come to life as professional actors read their scripts.
URL:https://www.youngpeoplestheatre.org/event/tdsb-playwriting-festival-2016-03-30/2016-04-01/
LOCATION:Offsite
CATEGORIES:Grade 6,Grade 8,Schools,Teachers in the TDSB,Workshop
END:VEVENT
BEGIN:VEVENT
DTSTART;VALUE=DATE:20160329
DTEND;VALUE=DATE:20160330
DTSTAMP:20260423T144045
CREATED:20160428T180923Z
LAST-MODIFIED:20160428T183342Z
UID:10068-1459209600-1459295999@www.youngpeoplestheatre.org
SUMMARY:TDSB Playwriting Festival
DESCRIPTION:TDSB Playwriting Festival\nWith a focus on playwriting\, students will discover and share their own voice and will practically apply what they learn by creating short plays of their own. These plays will then be shared with their peers\, teachers\, families and artists in a culminating festival day. Through facilitated sessions\, small group instruction and collaborative exploration with peers\, students will learn and develop their own work. They will employ strategies from the writing process and will use ensemble-based dramatic exercises to develop their own short plays. Students will also reflect on and discuss their learning experiences through online journaling throughout the process. \nIntroductory Seminar- March 22  \nWorking Sessions – March 24\, 29\, April 1\, 5\, 14\, 29\, May 3 \nPlaywriting Festival at YPT – May 9\nThe final day of YPT’s Playwriting Festival with Grades 6 and 8 in the TDSB takes place at YPT on May 9! Students will be able to see their final projects come to life as professional actors read their scripts.
URL:https://www.youngpeoplestheatre.org/event/tdsb-playwriting-festival-2016-03-25/
LOCATION:Offsite
CATEGORIES:Grade 6,Grade 8,Schools,Teachers in the TDSB,Workshop
END:VEVENT
BEGIN:VEVENT
DTSTART;VALUE=DATE:20160324
DTEND;VALUE=DATE:20160325
DTSTAMP:20260423T144045
CREATED:20160428T180923Z
LAST-MODIFIED:20160428T183457Z
UID:10124-1458777600-1458863999@www.youngpeoplestheatre.org
SUMMARY:TDSB Playwriting Festival
DESCRIPTION:TDSB Playwriting Festival\nWith a focus on playwriting\, students will discover and share their own voice and will practically apply what they learn by creating short plays of their own. These plays will then be shared with their peers\, teachers\, families and artists in a culminating festival day. Through facilitated sessions\, small group instruction and collaborative exploration with peers\, students will learn and develop their own work. They will employ strategies from the writing process and will use ensemble-based dramatic exercises to develop their own short plays. Students will also reflect on and discuss their learning experiences through online journaling throughout the process. \nIntroductory Seminar- March 22  \nWorking Sessions – March 24\, 29\, April 1\, 5\, 14\, 29\, May 3 \nPlaywriting Festival at YPT – May 9\nThe final day of YPT’s Playwriting Festival with Grades 6 and 8 in the TDSB takes place at YPT on May 9! Students will be able to see their final projects come to life as professional actors read their scripts.
URL:https://www.youngpeoplestheatre.org/event/tdsb-playwriting-festival-2016-03-23/
LOCATION:Offsite
CATEGORIES:Grade 6,Grade 8,Schools,Teachers in the TDSB,Workshop
END:VEVENT
BEGIN:VEVENT
DTSTART;TZID=America/Toronto:20160323T180000
DTEND;TZID=America/Toronto:20160323T190000
DTSTAMP:20260423T144045
CREATED:20160428T193551Z
LAST-MODIFIED:20160428T193551Z
UID:10241-1458756000-1458759600@www.youngpeoplestheatre.org
SUMMARY:Cultural Gym: Creating Character Through Movement
DESCRIPTION:Cultural Gym: Creating Character Through Movement\nAn actor’s instrument is their body. In this fun and lively workshop YPT Resident Artist Educator Melinda Little will introduce physical theatre techniques to explore how your body can be a fantastic resource for creating a character. \nDate:\nWed\, March 23rd – 6:00pm to 7:00pm \nParticipants:\nWe welcome children and adults to attend the program. This program is recommended for ages 12 and up. \nRegistration:\nCultural Gym sessions are PWYC (Pay What You Can) with a recommended donation of $2 per session. Space is limited. Pre-registration is recommended. To register please contact Amber Ebert\, School & Community Programs Manager at aebert@youngpeoplestheatre.org by 12:00 Noon on the date you would like to attend. \n \nAbout Melinda Little:\nMelinda is thrilled to be working at Young People’s Theatre as a Resident Artist Educator. She is an actor\, movement specialist and writer. As an actor Melinda has worked with many companies across Canada including Theatre Passe Muraille\, Tarragon Theatre\, Theatre Direct and Carousel Players among many others. Melinda is a Laban Movement Specialist and has taught movement and created theatre with students across the GTA through Te-Amim\, a tolerance education organization\, as well as at the Stratford Festival’s Birmingham Conservatory\, the University of Waterloo\, Randolph Academy for the Performing Arts\, Sheridan College and Second City. She holds a Masters in Movement Studies from the Central School of Speech and Drama and has also written two plays\, Shiksas Sit Shiva (with Catherine Hayos) which won Patron’s Pick\, Best Production and Ensemble at the Toronto Fringe\, and The Peace Line. She was a member of the Tarragon Theatre’s Playwright’s Unit and an inaugural member of Buddies in Bad Times Ante Chamber writing series. She is currently creating a new physical theatre piece entitled Flow. \nThis is a program of The Ada Slaight Education Centre at YPT\, established through a generous donation from The Slaight Family Foundation.
URL:https://www.youngpeoplestheatre.org/event/cultural-gym-creating-character-movement/2016-03-23/
LOCATION:2nd Floor Classroom\, 161 Front St. E. \, Toronto\, Ontario\, M5A 3Z4\, Canada
CATEGORIES:12 & up,Communities,Families,General Public,Parents & Children
GEO:43.6500928;-79.3690762
X-APPLE-STRUCTURED-LOCATION;VALUE=URI;X-ADDRESS=2nd Floor Classroom 161 Front St. E.  Toronto Ontario M5A 3Z4 Canada;X-APPLE-RADIUS=500;X-TITLE=161 Front St. E.:geo:-79.3690762,43.6500928
END:VEVENT
BEGIN:VEVENT
DTSTART;VALUE=DATE:20160322
DTEND;VALUE=DATE:20160323
DTSTAMP:20260423T144045
CREATED:20160428T180923Z
LAST-MODIFIED:20160428T182056Z
UID:10066-1458604800-1458691199@www.youngpeoplestheatre.org
SUMMARY:TDSB Playwriting Festival
DESCRIPTION:TDSB Playwriting Festival\nWith a focus on playwriting\, students will discover and share their own voice and will practically apply what they learn by creating short plays of their own. These plays will then be shared with their peers\, teachers\, families and artists in a culminating festival day. Through facilitated sessions\, small group instruction and collaborative exploration with peers\, students will learn and develop their own work. They will employ strategies from the writing process and will use ensemble-based dramatic exercises to develop their own short plays. Students will also reflect on and discuss their learning experiences through online journaling throughout the process. \nIntroductory Seminar- March 22  \nWorking Sessions – March 24\, 29\, April 1\, 5\, 14\, 29\, May 3 \nPlaywriting Festival at YPT – May 9\nThe final day of YPT’s Playwriting Festival with Grades 6 and 8 in the TDSB takes place at YPT on May 9! Students will be able to see their final projects come to life as professional actors read their scripts.
URL:https://www.youngpeoplestheatre.org/event/tdsb-playwriting-festival/2016-03-22/
LOCATION:Offsite
CATEGORIES:Grade 6,Grade 8,Schools,Teachers in the TDSB,Workshop
END:VEVENT
END:VCALENDAR