BEGIN:VCALENDAR
VERSION:2.0
PRODID:-//Young People&#039;s Theatre - ECPv6.15.16.1//NONSGML v1.0//EN
CALSCALE:GREGORIAN
METHOD:PUBLISH
X-WR-CALNAME:Young People&#039;s Theatre
X-ORIGINAL-URL:https://www.youngpeoplestheatre.org
X-WR-CALDESC:Events for Young People&#039;s Theatre
REFRESH-INTERVAL;VALUE=DURATION:PT1H
X-Robots-Tag:noindex
X-PUBLISHED-TTL:PT1H
BEGIN:VTIMEZONE
TZID:America/Toronto
BEGIN:DAYLIGHT
TZOFFSETFROM:-0500
TZOFFSETTO:-0400
TZNAME:EDT
DTSTART:20150308T070000
END:DAYLIGHT
BEGIN:STANDARD
TZOFFSETFROM:-0400
TZOFFSETTO:-0500
TZNAME:EST
DTSTART:20151101T060000
END:STANDARD
BEGIN:DAYLIGHT
TZOFFSETFROM:-0500
TZOFFSETTO:-0400
TZNAME:EDT
DTSTART:20160313T070000
END:DAYLIGHT
BEGIN:STANDARD
TZOFFSETFROM:-0400
TZOFFSETTO:-0500
TZNAME:EST
DTSTART:20161106T060000
END:STANDARD
BEGIN:DAYLIGHT
TZOFFSETFROM:-0500
TZOFFSETTO:-0400
TZNAME:EDT
DTSTART:20170312T070000
END:DAYLIGHT
BEGIN:STANDARD
TZOFFSETFROM:-0400
TZOFFSETTO:-0500
TZNAME:EST
DTSTART:20171105T060000
END:STANDARD
BEGIN:DAYLIGHT
TZOFFSETFROM:-0500
TZOFFSETTO:-0400
TZNAME:EDT
DTSTART:20180311T070000
END:DAYLIGHT
BEGIN:STANDARD
TZOFFSETFROM:-0400
TZOFFSETTO:-0500
TZNAME:EST
DTSTART:20181104T060000
END:STANDARD
END:VTIMEZONE
BEGIN:VEVENT
DTSTART;TZID=America/Toronto:20170607T180000
DTEND;TZID=America/Toronto:20170607T190000
DTSTAMP:20260423T151631
CREATED:20160823T182303Z
LAST-MODIFIED:20170531T202719Z
UID:12283-1496858400-1496862000@www.youngpeoplestheatre.org
SUMMARY:Volunteer Information Night
DESCRIPTION:Want to learn more about our Community Volunteer program and various opportunities to get involved with YPT this fall? Join us for an information evening on Wednesday\, June 7 at 6pm. The evening will include an overview of our programs\, a tour of the theatre\, and an opportunity to ask questions. \nRegistration is required for this event. Please RSVP to Norah O’Donnell at nodonnell@youngpeoplestheatre.org to reserve your space. \nFor more information about our current volunteer opportunities\, click here. \nYPT provides a variety of volunteer opportunities throughout the year in all facets of our programming. Volunteering at YPT is a great way to broaden your connection to the theatre community\, develop customer service skills\, and meet new people. \nWe value the importance of volunteerism and make it a priority to ensure that all volunteers have an enriching and satisfying experience as they help to fulfil the needs of the theatre. Because “Learning is at the centre of everything we do”\, we offer training and enhanced learning opportunities for our volunteers. \n 
URL:https://www.youngpeoplestheatre.org/event/volunteer-information-night-6/
LOCATION:Young People’s Theatre\, 165 Front St. E\, Toronto\, Ontario\, M5A 3Z4\, Canada
CATEGORIES:General Public
ORGANIZER;CN="Norah O%E2%80%99Donnell%2C Community Volunteer  Coordinator":MAILTO:nodonnell@youngpeoplestheatre.org
GEO:43.6500103;-79.3682912
X-APPLE-STRUCTURED-LOCATION;VALUE=URI;X-ADDRESS=Young People’s Theatre 165 Front St. E Toronto Ontario M5A 3Z4 Canada;X-APPLE-RADIUS=500;X-TITLE=165 Front St. E:geo:-79.3682912,43.6500103
END:VEVENT
BEGIN:VEVENT
DTSTART;TZID=America/Toronto:20170504T180000
DTEND;TZID=America/Toronto:20170504T190000
DTSTAMP:20260423T151631
CREATED:20160823T182110Z
LAST-MODIFIED:20160823T183845Z
UID:12281-1493920800-1493924400@www.youngpeoplestheatre.org
SUMMARY:Volunteer Information Night
DESCRIPTION:Volunteer Information Night\nWant to learn more about our Community Volunteer program and various opportunities to get involved with YPT this fall? Join us for an information evening on Thursday\, May 4\, 2017 at 6pm. The evening will include an overview of our programs\, a tour of the theatre\, and an opportunity to ask questions. \nRegistration is required for this event. Please RSVP to Norah O’Donnell at nodonnell@youngpeoplestheatre.org to reserve your space. \nFor more information about our current volunteer opportunities\, click here. \nYPT provides a variety of volunteer opportunities throughout the year in all facets of our programming. Volunteering at YPT is a great way to broaden your connection to the theatre community\, develop customer service skills\, and meet new people. \nWe value the importance of volunteerism and make it a priority to ensure that all volunteers have an enriching and satisfying experience as they help to fulfil the needs of the theatre. Because “Learning is at the centre of everything we do”\, we offer training and enhanced learning opportunities for our volunteers. \n 
URL:https://www.youngpeoplestheatre.org/event/volunteer-information-night-5/
LOCATION:Young People’s Theatre\, 165 Front St. E\, Toronto\, Ontario\, M5A 3Z4\, Canada
CATEGORIES:General Public
ORGANIZER;CN="Norah O%E2%80%99Donnell%2C Community Volunteer  Coordinator":MAILTO:nodonnell@youngpeoplestheatre.org
GEO:43.6500103;-79.3682912
X-APPLE-STRUCTURED-LOCATION;VALUE=URI;X-ADDRESS=Young People’s Theatre 165 Front St. E Toronto Ontario M5A 3Z4 Canada;X-APPLE-RADIUS=500;X-TITLE=165 Front St. E:geo:-79.3682912,43.6500103
END:VEVENT
BEGIN:VEVENT
DTSTART;TZID=America/Toronto:20170306T180000
DTEND;TZID=America/Toronto:20170306T190000
DTSTAMP:20260423T151631
CREATED:20160823T181926Z
LAST-MODIFIED:20160823T183730Z
UID:12279-1488823200-1488826800@www.youngpeoplestheatre.org
SUMMARY:Volunteer Information Night
DESCRIPTION:Want to learn more about our Community Volunteer program and various opportunities to get involved with YPT this fall? Join us for an information evening on Monday\, March 6\, 2017 at 6pm. The evening will include an overview of our programs\, a tour of the theatre\, and an opportunity to ask questions. \nRegistration is required for this event. Please RSVP to Norah O’Donnell at nodonnell@youngpeoplestheatre.org to reserve your space. \nFor more information about our current volunteer opportunities\, click here. \nYPT provides a variety of volunteer opportunities throughout the year in all facets of our programming. Volunteering at YPT is a great way to broaden your connection to the theatre community\, develop customer service skills\, and meet new people. \nWe value the importance of volunteerism and make it a priority to ensure that all volunteers have an enriching and satisfying experience as they help to fulfil the needs of the theatre. Because “Learning is at the centre of everything we do”\, we offer training and enhanced learning opportunities for our volunteers. \n 
URL:https://www.youngpeoplestheatre.org/event/volunteer-information-night-4/
LOCATION:Young People’s Theatre\, 165 Front St. E\, Toronto\, Ontario\, M5A 3Z4\, Canada
CATEGORIES:General Public
ORGANIZER;CN="Norah O%E2%80%99Donnell%2C Community Volunteer  Coordinator":MAILTO:nodonnell@youngpeoplestheatre.org
GEO:43.6500103;-79.3682912
X-APPLE-STRUCTURED-LOCATION;VALUE=URI;X-ADDRESS=Young People’s Theatre 165 Front St. E Toronto Ontario M5A 3Z4 Canada;X-APPLE-RADIUS=500;X-TITLE=165 Front St. E:geo:-79.3682912,43.6500103
END:VEVENT
BEGIN:VEVENT
DTSTART;TZID=America/Toronto:20170105T180000
DTEND;TZID=America/Toronto:20170105T190000
DTSTAMP:20260423T151631
CREATED:20160823T181621Z
LAST-MODIFIED:20160823T183622Z
UID:12276-1483639200-1483642800@www.youngpeoplestheatre.org
SUMMARY:Volunteer Information Night
DESCRIPTION:Want to learn more about our Community Volunteer program and various opportunities to get involved with YPT this fall? Join us for an information evening on Thursday\, January 5\, 2017 at 6pm. The evening will include an overview of our programs\, a tour of the theatre\, and an opportunity to ask questions. \nRegistration is required for this event. Please RSVP to Norah O’Donnell at nodonnell@youngpeoplestheatre.org to reserve your space. \nFor more information about our current volunteer opportunities\, click here. \nYPT provides a variety of volunteer opportunities throughout the year in all facets of our programming. Volunteering at YPT is a great way to broaden your connection to the theatre community\, develop customer service skills\, and meet new people. \nWe value the importance of volunteerism and make it a priority to ensure that all volunteers have an enriching and satisfying experience as they help to fulfil the needs of the theatre. Because “Learning is at the centre of everything we do”\, we offer training and enhanced learning opportunities for our volunteers. \n 
URL:https://www.youngpeoplestheatre.org/event/volunteer-information-night-3/
LOCATION:Young People’s Theatre\, 165 Front St. E\, Toronto\, Ontario\, M5A 3Z4\, Canada
CATEGORIES:General Public
ORGANIZER;CN="Norah O%E2%80%99Donnell%2C Community Volunteer  Coordinator":MAILTO:nodonnell@youngpeoplestheatre.org
GEO:43.6500103;-79.3682912
X-APPLE-STRUCTURED-LOCATION;VALUE=URI;X-ADDRESS=Young People’s Theatre 165 Front St. E Toronto Ontario M5A 3Z4 Canada;X-APPLE-RADIUS=500;X-TITLE=165 Front St. E:geo:-79.3682912,43.6500103
END:VEVENT
BEGIN:VEVENT
DTSTART;TZID=America/Toronto:20161124T180000
DTEND;TZID=America/Toronto:20161124T190000
DTSTAMP:20260423T151631
CREATED:20160823T181213Z
LAST-MODIFIED:20160823T183455Z
UID:12274-1480010400-1480014000@www.youngpeoplestheatre.org
SUMMARY:Volunteer Information Night
DESCRIPTION:Want to learn more about our Community Volunteer program and various opportunities to get involved with YPT this fall? Join us for an information evening on Thursday\, November 24 at 6pm. The evening will include an overview of our programs\, a tour of the theatre\, and an opportunity to ask questions. \nRegistration is required for this event. Please RSVP to Norah O’Donnell at nodonnell@youngpeoplestheatre.org to reserve your space. \nFor more information about our current volunteer opportunities\, click here. \nYPT provides a variety of volunteer opportunities throughout the year in all facets of our programming. Volunteering at YPT is a great way to broaden your connection to the theatre community\, develop customer service skills\, and meet new people. \nWe value the importance of volunteerism and make it a priority to ensure that all volunteers have an enriching and satisfying experience as they help to fulfil the needs of the theatre. Because “Learning is at the centre of everything we do”\, we offer training and enhanced learning opportunities for our volunteers. \n 
URL:https://www.youngpeoplestheatre.org/event/volunteer-information-night-2/
LOCATION:Young People’s Theatre\, 165 Front St. E\, Toronto\, Ontario\, M5A 3Z4\, Canada
CATEGORIES:General Public
ORGANIZER;CN="Norah O%E2%80%99Donnell%2C Community Volunteer  Coordinator":MAILTO:nodonnell@youngpeoplestheatre.org
GEO:43.6500103;-79.3682912
X-APPLE-STRUCTURED-LOCATION;VALUE=URI;X-ADDRESS=Young People’s Theatre 165 Front St. E Toronto Ontario M5A 3Z4 Canada;X-APPLE-RADIUS=500;X-TITLE=165 Front St. E:geo:-79.3682912,43.6500103
END:VEVENT
END:VCALENDAR