BEGIN:VCALENDAR
VERSION:2.0
PRODID:-//Young People&#039;s Theatre - ECPv6.15.16.1//NONSGML v1.0//EN
CALSCALE:GREGORIAN
METHOD:PUBLISH
X-WR-CALNAME:Young People&#039;s Theatre
X-ORIGINAL-URL:https://www.youngpeoplestheatre.org
X-WR-CALDESC:Events for Young People&#039;s Theatre
REFRESH-INTERVAL;VALUE=DURATION:PT1H
X-Robots-Tag:noindex
X-PUBLISHED-TTL:PT1H
BEGIN:VTIMEZONE
TZID:America/Toronto
BEGIN:DAYLIGHT
TZOFFSETFROM:-0500
TZOFFSETTO:-0400
TZNAME:EDT
DTSTART:20170312T070000
END:DAYLIGHT
BEGIN:STANDARD
TZOFFSETFROM:-0400
TZOFFSETTO:-0500
TZNAME:EST
DTSTART:20171105T060000
END:STANDARD
BEGIN:DAYLIGHT
TZOFFSETFROM:-0500
TZOFFSETTO:-0400
TZNAME:EDT
DTSTART:20180311T070000
END:DAYLIGHT
BEGIN:STANDARD
TZOFFSETFROM:-0400
TZOFFSETTO:-0500
TZNAME:EST
DTSTART:20181104T060000
END:STANDARD
BEGIN:DAYLIGHT
TZOFFSETFROM:-0500
TZOFFSETTO:-0400
TZNAME:EDT
DTSTART:20190310T070000
END:DAYLIGHT
BEGIN:STANDARD
TZOFFSETFROM:-0400
TZOFFSETTO:-0500
TZNAME:EST
DTSTART:20191103T060000
END:STANDARD
END:VTIMEZONE
BEGIN:VEVENT
DTSTART;TZID=America/Toronto:20180925T113000
DTEND;TZID=America/Toronto:20180925T121500
DTSTAMP:20260423T193018
CREATED:20180907T190051Z
LAST-MODIFIED:20180907T190051Z
UID:22624-1537875000-1537877700@www.youngpeoplestheatre.org
SUMMARY:Baby Drama Time
DESCRIPTION:Baby Drama Time is a new interactive drama\, movement and music class for a caregiver or parent to enjoy with the baby in their life! Expanding on YPT’s hugely successful work with theatre for babies\, each term will explore a particular theme through sensory play\, storytelling\, and song. Meet new parents and enjoy a relaxed environment to spend time with your babies — and have fun introducing the building blocks of storytelling and interactive play to your baby! \nTwo five-week pilot terms will run in the fall\, with each class being led by an artist educator with experience in infant development and programming. Subsequent terms may follow\, depending on demand. Pre-registration is now available (a limited number of drop-in spots are held for each class). \nBaby Drama Time is held at YPT on Tuesday mornings from 11:30AM — 12:15PM and is suitable for babies aged 3-18 months. \nTerm 1:\nTuesday\, September 25 (offered as a free trial class)\, October 2\, 9\, 16\, 23\, 30 (special Halloween edition!)\, 2018 \nTerm 2:\nTuesday\, November 6\, 13\, 20\, 27\, December 4\, 2018 \nDrop-in Fee: $12 per class\nPre-registration Fee: $50 for the five class term ($10/class) \nREGISTER HERE. \nQuestions? Contact Breanne Ritchie\, Drama School Coordinator at 416.363.5131 x263 | britchie(at)youngpeoplestheatre.org
URL:https://www.youngpeoplestheatre.org/event/baby-drama-time/2018-09-25/
LOCATION:Young People’s Theatre\, 165 Front St. E\, Toronto\, Ontario\, M5A 3Z4\, Canada
CATEGORIES:children,Families,Parent & Toddler,Parents/Guardians
ATTACH;FMTTYPE=image/png:https://www.youngpeoplestheatre.org/wp-content/uploads/2018/09/Baby-Drama-Time.png
ORGANIZER;CN="Breanne Ritchie%2C Drama School Coordinator":MAILTO:britchie@youngpeoplestheatre.org
GEO:43.6500103;-79.3682912
X-APPLE-STRUCTURED-LOCATION;VALUE=URI;X-ADDRESS=Young People’s Theatre 165 Front St. E Toronto Ontario M5A 3Z4 Canada;X-APPLE-RADIUS=500;X-TITLE=165 Front St. E:geo:-79.3682912,43.6500103
END:VEVENT
END:VCALENDAR