BEGIN:VCALENDAR
VERSION:2.0
PRODID:-//Young People&#039;s Theatre - ECPv6.15.16.1//NONSGML v1.0//EN
CALSCALE:GREGORIAN
METHOD:PUBLISH
X-WR-CALNAME:Young People&#039;s Theatre
X-ORIGINAL-URL:https://www.youngpeoplestheatre.org
X-WR-CALDESC:Events for Young People&#039;s Theatre
REFRESH-INTERVAL;VALUE=DURATION:PT1H
X-Robots-Tag:noindex
X-PUBLISHED-TTL:PT1H
BEGIN:VTIMEZONE
TZID:America/Toronto
BEGIN:DAYLIGHT
TZOFFSETFROM:-0500
TZOFFSETTO:-0400
TZNAME:EDT
DTSTART:20160313T070000
END:DAYLIGHT
BEGIN:STANDARD
TZOFFSETFROM:-0400
TZOFFSETTO:-0500
TZNAME:EST
DTSTART:20161106T060000
END:STANDARD
BEGIN:DAYLIGHT
TZOFFSETFROM:-0500
TZOFFSETTO:-0400
TZNAME:EDT
DTSTART:20170312T070000
END:DAYLIGHT
BEGIN:STANDARD
TZOFFSETFROM:-0400
TZOFFSETTO:-0500
TZNAME:EST
DTSTART:20171105T060000
END:STANDARD
BEGIN:DAYLIGHT
TZOFFSETFROM:-0500
TZOFFSETTO:-0400
TZNAME:EDT
DTSTART:20180311T070000
END:DAYLIGHT
BEGIN:STANDARD
TZOFFSETFROM:-0400
TZOFFSETTO:-0500
TZNAME:EST
DTSTART:20181104T060000
END:STANDARD
END:VTIMEZONE
BEGIN:VEVENT
DTSTART;TZID=America/Toronto:20171015T130000
DTEND;TZID=America/Toronto:20171015T140000
DTSTAMP:20260425T093611
CREATED:20170912T165401Z
LAST-MODIFIED:20171003T182353Z
UID:17782-1508072400-1508076000@www.youngpeoplestheatre.org
SUMMARY:Bello Family Workshop
DESCRIPTION:Bello Family Workshop\nDate: Sunday\, October 15\, 2017 \nTime:  1PM to 2PM \nRecommended for children ages 6 to 9. \nJoin us on Sunday\, October 15\, 2017\, for a pre-show drama workshop for the whole family! Led by Resident Artist Educator Mark Kreder\, participants will learn about folktales and storytelling and will work together to create new stories about the importance of family and compassion. \nThe workshop fee is $5 per participant. Pre-registration is required and space is limited. Children under the age of 12 must be accompanied by an adult. \nClick here to register. \nContact Amber Ebert\, School & Community Programs Manager\, at 416.363.5131 x230 for more information \nThis is a program of The Ada Slaight Education Centre at YPT established through a generous donation from The Slaight Family Foundation. \n  \n\nBello\nWritten by Vern Thiessen\nTranslated by Brian Dooley\nDirected by Mieko Ouchi\nA co-production by Concrete Theatre and L’Unithéâtre presented in English and in French \nON THE MAINSTAGE OCT. 10-20\, 2017\nRECOMMENDED FOR AGES 6-9\nRUNS APPROX. 50 MIN. \nImagine a time when there were no phones\, no cars and no light bulbs – when the land stretched out like a quilted bed and the sky was like an ocean overhead. A lonely young boy named Bern gets lost traveling home from school during a snowstorm. He meets an old woman who has been shunned by the village. And from this chance encounter\, Bern makes a discovery – about himself\, his family and the importance of compassion.
URL:https://www.youngpeoplestheatre.org/event/bello-family-workshop/
LOCATION:Young People’s Theatre\, 165 Front St. E\, Toronto\, Ontario\, M5A 3Z4\, Canada
CATEGORIES:Ages 6-9,Families,Workshop
GEO:43.6500103;-79.3682912
X-APPLE-STRUCTURED-LOCATION;VALUE=URI;X-ADDRESS=Young People’s Theatre 165 Front St. E Toronto Ontario M5A 3Z4 Canada;X-APPLE-RADIUS=500;X-TITLE=165 Front St. E:geo:-79.3682912,43.6500103
END:VEVENT
END:VCALENDAR