BEGIN:VCALENDAR
VERSION:2.0
PRODID:-//Young People&#039;s Theatre - ECPv6.15.16.1//NONSGML v1.0//EN
CALSCALE:GREGORIAN
METHOD:PUBLISH
X-WR-CALNAME:Young People&#039;s Theatre
X-ORIGINAL-URL:https://www.youngpeoplestheatre.org
X-WR-CALDESC:Events for Young People&#039;s Theatre
REFRESH-INTERVAL;VALUE=DURATION:PT1H
X-Robots-Tag:noindex
X-PUBLISHED-TTL:PT1H
BEGIN:VTIMEZONE
TZID:America/Toronto
BEGIN:DAYLIGHT
TZOFFSETFROM:-0500
TZOFFSETTO:-0400
TZNAME:EDT
DTSTART:20160313T070000
END:DAYLIGHT
BEGIN:STANDARD
TZOFFSETFROM:-0400
TZOFFSETTO:-0500
TZNAME:EST
DTSTART:20161106T060000
END:STANDARD
BEGIN:DAYLIGHT
TZOFFSETFROM:-0500
TZOFFSETTO:-0400
TZNAME:EDT
DTSTART:20170312T070000
END:DAYLIGHT
BEGIN:STANDARD
TZOFFSETFROM:-0400
TZOFFSETTO:-0500
TZNAME:EST
DTSTART:20171105T060000
END:STANDARD
BEGIN:DAYLIGHT
TZOFFSETFROM:-0500
TZOFFSETTO:-0400
TZNAME:EDT
DTSTART:20180311T070000
END:DAYLIGHT
BEGIN:STANDARD
TZOFFSETFROM:-0400
TZOFFSETTO:-0500
TZNAME:EST
DTSTART:20181104T060000
END:STANDARD
END:VTIMEZONE
BEGIN:VEVENT
DTSTART;VALUE=DATE:20170914
DTEND;VALUE=DATE:20170915
DTSTAMP:20260423T141356
CREATED:20170626T175910Z
LAST-MODIFIED:20170726T152016Z
UID:17171-1505347200-1505433599@www.youngpeoplestheatre.org
SUMMARY:Artist Educators Training
DESCRIPTION:This program is made possible through funding from the Ada Slaight Education Centre at YPT\, and bursaries and travel subsidies are made possible this year by the generous support of the Ontario Arts Council.  \nApplications for bursaries and travel subsidies are due by 5PM on August 14\, 2017.  \nIf you have questions\, or to apply for a bursary or travel subsidy\, contact Aimee Bouchard\, Member Schools & Education Manager at abouchard@youngpeoplestheatre.org or 416.363.5131 x216.
URL:https://www.youngpeoplestheatre.org/event/artist-educators-training-3/2017-09-14/
LOCATION:Young People’s Theatre\, 165 Front St. E\, Toronto\, Ontario\, M5A 3Z4\, Canada
CATEGORIES:Adults Only,Artist Educators,Workshop
GEO:43.6500103;-79.3682912
X-APPLE-STRUCTURED-LOCATION;VALUE=URI;X-ADDRESS=Young People’s Theatre 165 Front St. E Toronto Ontario M5A 3Z4 Canada;X-APPLE-RADIUS=500;X-TITLE=165 Front St. E:geo:-79.3682912,43.6500103
END:VEVENT
BEGIN:VEVENT
DTSTART;TZID=America/Toronto:20170202T090000
DTEND;TZID=America/Toronto:20170203T160000
DTSTAMP:20260423T141356
CREATED:20161201T211011Z
LAST-MODIFIED:20161201T211216Z
UID:14030-1486026000-1486137600@www.youngpeoplestheatre.org
SUMMARY:Artist Educators Training
DESCRIPTION:Artist Educators Training\nThursday\, February 2 & Friday\, February 3\, 2017\nYoung People’s Theatre\n9am-4pm \nProgram Details: \nThe YPT Artist Educators Training is open to all artists interested in arts education and with a desire to further develop their pedagogical skills through practical training. \nThe first day is comprised of several modules\, each with a particular focus. These include: \n•      lesson planning\,\n•      fostering authentic engagement\,\n•      developing techniques for classroom management\,\n•      connecting learning to a specific text or arts experience\, and\n•      creating ensemble-based exercises. \nThe second day begins with refining the participants’ plans and culminates in putting what they have created into action by facilitating workshops for children and young people. Throughout\, participants will work alongside one another and in concert with the invited youth to reflect on what makes an engaging workshop. \nBoth novice and experienced Artist Educators are welcome. This program will provide professional development for those working in school and community settings across arts disciplines\, but with a focus on theatre. \nThis program is made possible through funding from The Ada Slaight Education Centre at YPT. \nCost: $75.00 for two days \nRegister Online here. \nRegistration Deadline: 4:30pm Friday\, January 20\, 2017 \nIf you have questions\, please contact Aimee Bouchard\, Interim Member Schools Manager at abouchard@youngpeoplestheatre.org or 416.363.5131 x216.
URL:https://www.youngpeoplestheatre.org/event/artist-educators-training-2/
LOCATION:Young People’s Theatre\, 165 Front St. E\, Toronto\, Ontario\, M5A 3Z4\, Canada
CATEGORIES:Artist Educators,General Public,Workshop
GEO:43.6500103;-79.3682912
X-APPLE-STRUCTURED-LOCATION;VALUE=URI;X-ADDRESS=Young People’s Theatre 165 Front St. E Toronto Ontario M5A 3Z4 Canada;X-APPLE-RADIUS=500;X-TITLE=165 Front St. E:geo:-79.3682912,43.6500103
END:VEVENT
END:VCALENDAR