BEGIN:VCALENDAR
VERSION:2.0
PRODID:-//Young People&#039;s Theatre - ECPv6.15.16.1//NONSGML v1.0//EN
CALSCALE:GREGORIAN
METHOD:PUBLISH
X-WR-CALNAME:Young People&#039;s Theatre
X-ORIGINAL-URL:https://www.youngpeoplestheatre.org
X-WR-CALDESC:Events for Young People&#039;s Theatre
REFRESH-INTERVAL;VALUE=DURATION:PT1H
X-Robots-Tag:noindex
X-PUBLISHED-TTL:PT1H
BEGIN:VTIMEZONE
TZID:America/Toronto
BEGIN:DAYLIGHT
TZOFFSETFROM:-0500
TZOFFSETTO:-0400
TZNAME:EDT
DTSTART:20180311T070000
END:DAYLIGHT
BEGIN:STANDARD
TZOFFSETFROM:-0400
TZOFFSETTO:-0500
TZNAME:EST
DTSTART:20181104T060000
END:STANDARD
BEGIN:DAYLIGHT
TZOFFSETFROM:-0500
TZOFFSETTO:-0400
TZNAME:EDT
DTSTART:20190310T070000
END:DAYLIGHT
BEGIN:STANDARD
TZOFFSETFROM:-0400
TZOFFSETTO:-0500
TZNAME:EST
DTSTART:20191103T060000
END:STANDARD
BEGIN:DAYLIGHT
TZOFFSETFROM:-0500
TZOFFSETTO:-0400
TZNAME:EDT
DTSTART:20200308T070000
END:DAYLIGHT
BEGIN:STANDARD
TZOFFSETFROM:-0400
TZOFFSETTO:-0500
TZNAME:EST
DTSTART:20201101T060000
END:STANDARD
END:VTIMEZONE
BEGIN:VEVENT
DTSTART;TZID=America/Toronto:20190924T180000
DTEND;TZID=America/Toronto:20190924T200000
DTSTAMP:20260423T153613
CREATED:20190719T190939Z
LAST-MODIFIED:20190719T190939Z
UID:26889-1569348000-1569355200@www.youngpeoplestheatre.org
SUMMARY:Writers' Bloc (YPT Drama School)
DESCRIPTION:Writers’ Bloc \nGrade 7-12\nDowntown Toronto\nTuesdays from 6PM-8PM\, Fall & Winter \nTheatre for youth by youth! Students learn numerous script-building skills in order to write their own play. The student playwrights will exchange feedback as they workshop drafts of their scripts\, receive dramaturgical input from professional theatre artists on staff\, and interview YPT playwrights from the 2019/20 Season. The program culminates in the opportunity for students to work with a professional director and hear their plays read aloud for an invited audience. \nDownload a copy of the class schedule here.
URL:https://www.youngpeoplestheatre.org/event/writers-bloc-ypt-drama-school/2019-09-24/
CATEGORIES:Grade 7-12,Writers' Bloc
END:VEVENT
END:VCALENDAR