BEGIN:VCALENDAR
VERSION:2.0
PRODID:-//Young People&#039;s Theatre - ECPv6.15.16.1//NONSGML v1.0//EN
CALSCALE:GREGORIAN
METHOD:PUBLISH
X-ORIGINAL-URL:https://www.youngpeoplestheatre.org
X-WR-CALDESC:Events for Young People&#039;s Theatre
REFRESH-INTERVAL;VALUE=DURATION:PT1H
X-Robots-Tag:noindex
X-PUBLISHED-TTL:PT1H
BEGIN:VTIMEZONE
TZID:America/Toronto
BEGIN:DAYLIGHT
TZOFFSETFROM:-0500
TZOFFSETTO:-0400
TZNAME:EDT
DTSTART:20180311T070000
END:DAYLIGHT
BEGIN:STANDARD
TZOFFSETFROM:-0400
TZOFFSETTO:-0500
TZNAME:EST
DTSTART:20181104T060000
END:STANDARD
BEGIN:DAYLIGHT
TZOFFSETFROM:-0500
TZOFFSETTO:-0400
TZNAME:EDT
DTSTART:20190310T070000
END:DAYLIGHT
BEGIN:STANDARD
TZOFFSETFROM:-0400
TZOFFSETTO:-0500
TZNAME:EST
DTSTART:20191103T060000
END:STANDARD
BEGIN:DAYLIGHT
TZOFFSETFROM:-0500
TZOFFSETTO:-0400
TZNAME:EDT
DTSTART:20200308T070000
END:DAYLIGHT
BEGIN:STANDARD
TZOFFSETFROM:-0400
TZOFFSETTO:-0500
TZNAME:EST
DTSTART:20201101T060000
END:STANDARD
BEGIN:DAYLIGHT
TZOFFSETFROM:-0500
TZOFFSETTO:-0400
TZNAME:EDT
DTSTART:20210314T070000
END:DAYLIGHT
BEGIN:STANDARD
TZOFFSETFROM:-0400
TZOFFSETTO:-0500
TZNAME:EST
DTSTART:20211107T060000
END:STANDARD
BEGIN:DAYLIGHT
TZOFFSETFROM:-0500
TZOFFSETTO:-0400
TZNAME:EDT
DTSTART:20220313T070000
END:DAYLIGHT
BEGIN:STANDARD
TZOFFSETFROM:-0400
TZOFFSETTO:-0500
TZNAME:EST
DTSTART:20221106T060000
END:STANDARD
END:VTIMEZONE
BEGIN:VEVENT
DTSTART;TZID=America/Toronto:20210412T080000
DTEND;TZID=America/Toronto:20210416T170000
DTSTAMP:20260423T155846
CREATED:20210202T173224Z
LAST-MODIFIED:20210212T165632Z
UID:33035-1618214400-1618592400@www.youngpeoplestheatre.org
SUMMARY:Online Spring Break Drama Camp
DESCRIPTION:Online Spring Break Drama Camp\nRegister Today!\nGr. 1-6\nOnline \nRegister Online here or\nDownload our Registration Package here. \nSee details about camps\, plus info about our brand new literacy-based drama camp\, Do I Have a Story For You! here:\nhttps://youngpeoplestheatre.org/dramaschool/march-break/spring-break-drama-camp/
URL:https://www.youngpeoplestheatre.org/event/online-spring-break-drama-camp/
LOCATION:Online
CATEGORIES:Grades 1-6,YPT Drama School
ATTACH;FMTTYPE=image/png:https://www.youngpeoplestheatre.org/wp-content/uploads/2021/02/Spring-Break-Drama-Camp-banner.png
ORGANIZER;CN="YPT Drama School":MAILTO:YPTDramaSchool@youngpeoplestheatre.org
END:VEVENT
BEGIN:VEVENT
DTSTART;TZID=America/Toronto:20190924T163000
DTEND;TZID=America/Toronto:20190924T180000
DTSTAMP:20260423T155846
CREATED:20190719T190132Z
LAST-MODIFIED:20190719T191611Z
UID:26877-1569342600-1569348000@www.youngpeoplestheatre.org
SUMMARY:Gr. 5-6 Drama Class | Downtown
DESCRIPTION:Gr. 5-6 Drama Class | Downtown\nAfter-School Classes \nGr. 5-6\nDowntown\n4:30PM – 6PM \nDownload the class schedule here.
URL:https://www.youngpeoplestheatre.org/event/after-school-drama-school-classes-gr-5-6-downtown/2019-09-24/
LOCATION:Young People’s Theatre\, 165 Front St. E\, Toronto\, Ontario\, M5A 3Z4\, Canada
CATEGORIES:Grades 5-6,YPT Drama School
GEO:43.6500103;-79.3682912
X-APPLE-STRUCTURED-LOCATION;VALUE=URI;X-ADDRESS=Young People’s Theatre 165 Front St. E Toronto Ontario M5A 3Z4 Canada;X-APPLE-RADIUS=500;X-TITLE=165 Front St. E:geo:-79.3682912,43.6500103
END:VEVENT
END:VCALENDAR