BEGIN:VCALENDAR
VERSION:2.0
PRODID:-//Young People&#039;s Theatre - ECPv6.15.16.1//NONSGML v1.0//EN
CALSCALE:GREGORIAN
METHOD:PUBLISH
X-WR-CALNAME:Young People&#039;s Theatre
X-ORIGINAL-URL:https://www.youngpeoplestheatre.org
X-WR-CALDESC:Events for Young People&#039;s Theatre
REFRESH-INTERVAL;VALUE=DURATION:PT1H
X-Robots-Tag:noindex
X-PUBLISHED-TTL:PT1H
BEGIN:VTIMEZONE
TZID:America/Toronto
BEGIN:DAYLIGHT
TZOFFSETFROM:-0500
TZOFFSETTO:-0400
TZNAME:EDT
DTSTART:20140309T070000
END:DAYLIGHT
BEGIN:STANDARD
TZOFFSETFROM:-0400
TZOFFSETTO:-0500
TZNAME:EST
DTSTART:20141102T060000
END:STANDARD
BEGIN:DAYLIGHT
TZOFFSETFROM:-0500
TZOFFSETTO:-0400
TZNAME:EDT
DTSTART:20150308T070000
END:DAYLIGHT
BEGIN:STANDARD
TZOFFSETFROM:-0400
TZOFFSETTO:-0500
TZNAME:EST
DTSTART:20151101T060000
END:STANDARD
BEGIN:DAYLIGHT
TZOFFSETFROM:-0500
TZOFFSETTO:-0400
TZNAME:EDT
DTSTART:20160313T070000
END:DAYLIGHT
BEGIN:STANDARD
TZOFFSETFROM:-0400
TZOFFSETTO:-0500
TZNAME:EST
DTSTART:20161106T060000
END:STANDARD
BEGIN:DAYLIGHT
TZOFFSETFROM:-0500
TZOFFSETTO:-0400
TZNAME:EDT
DTSTART:20170312T070000
END:DAYLIGHT
BEGIN:STANDARD
TZOFFSETFROM:-0400
TZOFFSETTO:-0500
TZNAME:EST
DTSTART:20171105T060000
END:STANDARD
BEGIN:DAYLIGHT
TZOFFSETFROM:-0500
TZOFFSETTO:-0400
TZNAME:EDT
DTSTART:20180311T070000
END:DAYLIGHT
BEGIN:STANDARD
TZOFFSETFROM:-0400
TZOFFSETTO:-0500
TZNAME:EST
DTSTART:20181104T060000
END:STANDARD
BEGIN:DAYLIGHT
TZOFFSETFROM:-0500
TZOFFSETTO:-0400
TZNAME:EDT
DTSTART:20190310T070000
END:DAYLIGHT
BEGIN:STANDARD
TZOFFSETFROM:-0400
TZOFFSETTO:-0500
TZNAME:EST
DTSTART:20191103T060000
END:STANDARD
END:VTIMEZONE
BEGIN:VEVENT
DTSTART;TZID=America/Toronto:20180111T180000
DTEND;TZID=America/Toronto:20180111T200000
DTSTAMP:20260423T100220
CREATED:20180103T160538Z
LAST-MODIFIED:20180103T160846Z
UID:19071-1515693600-1515700800@www.youngpeoplestheatre.org
SUMMARY:Three Up
DESCRIPTION:Three Up\nInternational Youth Playwriting Program\nYoung People’s Theatre (YPT)\, Britain’s Action Transport Theatre and Australia’s Ryde Youth Theatre are thrilled to partner on Three Up\, an international program for young writers aged 13-17. YPT is looking for four young people from the GTA with a passion for writing and interest in building their skills to be part of this six month international collaboration. The Three Up program provides the opportunity for youth to reach beyond their own borders to build community with peers from the UK and Australia while working with professional\, local and international playwrights and facilitators. \nIn-person Sessions:\nIn-person sessions will take place on Thursdays from 6PM to 8PM on the following dates: \nDecember – Dec. 14\, 2017\nJanuary – Jan 11\, 2018 and Jan 25\, 2018\nFebruary – Feb 8\, 2018 and Feb 22\, 2018\nMarch – Mar 8\, 2018 and Mar 22\, 2018\nApril – April 5\, 2018 and April 19\, 2018\nMay – May 3\, 2018 and May 17\, 2018 \nThere will be a final session with a presentation in the week of June 11\, 2018\, date to be determined. \nIn-person meetings will occur with YPT facilitators and the four Canadian participants at YPT (165 Front Street\, Toronto). The purpose of these meetings will be to provide instruction on playwriting\, discuss ongoing collaborative work with international partners\, monitor progress and share completed works. \nClick here for more information about Action Transport Theatre (ATT).\nClick here for more information about Ryde Youth Theatre.
URL:https://www.youngpeoplestheatre.org/event/three-up-2/2018-01-11/
LOCATION:Young People’s Theatre\, 165 Front St. E\, Toronto\, Ontario\, M5A 3Z4\, Canada
CATEGORIES:Workshop,Youth
GEO:43.6500103;-79.3682912
X-APPLE-STRUCTURED-LOCATION;VALUE=URI;X-ADDRESS=Young People’s Theatre 165 Front St. E Toronto Ontario M5A 3Z4 Canada;X-APPLE-RADIUS=500;X-TITLE=165 Front St. E:geo:-79.3682912,43.6500103
END:VEVENT
BEGIN:VEVENT
DTSTART;TZID=America/Toronto:20170426T180000
DTEND;TZID=America/Toronto:20170426T193000
DTSTAMP:20260423T100220
CREATED:20170403T162507Z
LAST-MODIFIED:20170403T171610Z
UID:15946-1493229600-1493235000@www.youngpeoplestheatre.org
SUMMARY:Cultural Gym: Secrets of Scenic Painting
DESCRIPTION:During Cultural Gym: Secrets of Scenic Painting\, YPT Resident Scenic Painter Mattea Kennedy will lead a series of classes on traditional techniques frequently used in scenic painting. Participants will learn the step-by-step process of how to beautifully transform any object into wood\, marble or stone\, using only paint and the secrets of scenic art! \nWed. April 26: 6PM-7:30PM\nWed. May 3: 6PM-7:30PM\nWed. May 10: 6PM-7:30PM\nWed. May 17: 6PM-7:30PM \nYPT’s Cultural Gym is a series of drop-in programs with each session having a clear and specific focus on an aspect of theatre performance and/or creation. Like a gym\, participants will have the opportunity to take a number of classes to learn or develop a drama based skill\, challenge themselves in new creative ways and be a part of a community that shares an interest in learning and creative expression. \nEach session will focus on a specific aspect of theatre performance and/or creation. The structure of this program is inspired by the idea of a physical gym where individuals (children and adults) can come to exercise their creative muscles. \nThis intergenerational program is open to children\, youth and adults. Children under the age of 12 must be accompanied by a participating adult. We also welcome groups from community organizations. \nCultural Gym sessions are PWYC (Pay What You Can) with a recommended donation of $2 per session.  Space is limited. Pre-registration is recommended. Groups must register in advance. To register please contact Amber Ebert\, School & Community Programs Manager at aebert@youngpeoplestheatre.org by 12:00 Noon on the date you would like to attend.
URL:https://www.youngpeoplestheatre.org/event/cultural-gym-secrets-scenic-painting-2/2017-04-26/
LOCATION:Young People’s Theatre\, 165 Front St. E\, Toronto\, Ontario\, M5A 3Z4\, Canada
CATEGORIES:children,Families,General Public,Parents & Children,Youth
ATTACH;FMTTYPE=image/png:https://www.youngpeoplestheatre.org/wp-content/uploads/2016/04/Cultural-Gym-Logo-2016.png
GEO:43.6500103;-79.3682912
X-APPLE-STRUCTURED-LOCATION;VALUE=URI;X-ADDRESS=Young People’s Theatre 165 Front St. E Toronto Ontario M5A 3Z4 Canada;X-APPLE-RADIUS=500;X-TITLE=165 Front St. E:geo:-79.3682912,43.6500103
END:VEVENT
BEGIN:VEVENT
DTSTART;TZID=America/Toronto:20170105T180000
DTEND;TZID=America/Toronto:20170105T200000
DTSTAMP:20260423T100220
CREATED:20161207T165334Z
LAST-MODIFIED:20161207T165804Z
UID:14287-1483639200-1483646400@www.youngpeoplestheatre.org
SUMMARY:Three Up - International Youth Playwriting Program
DESCRIPTION:Three Up\nInternational Youth Playwriting Program\nYoung People’s Theatre (YPT)\, Britain’s Action Transport Theatre (ATT) and the Australian Theatre for Young People (ATYP) are thrilled to partner for the second year on Three Up\, an international program for young writers aged 13-17. YPT is looking for four young people from the GTA with a passion for writing and interest in building their skills to be part of this six month international collaboration. The Three Up program provides the opportunity for youth to reach beyond their own borders to build community with peers from the UK and Australia while working with professional\, local and international playwrights and facilitators. \nSee more details here.
URL:https://www.youngpeoplestheatre.org/event/three-international-youth-playwriting-program/2017-01-05/
LOCATION:Young People’s Theatre\, 165 Front St. E\, Toronto\, Ontario\, M5A 3Z4\, Canada
CATEGORIES:Ages 13-17,Teen,Youth
GEO:43.6500103;-79.3682912
X-APPLE-STRUCTURED-LOCATION;VALUE=URI;X-ADDRESS=Young People’s Theatre 165 Front St. E Toronto Ontario M5A 3Z4 Canada;X-APPLE-RADIUS=500;X-TITLE=165 Front St. E:geo:-79.3682912,43.6500103
END:VEVENT
BEGIN:VEVENT
DTSTART;TZID=America/Toronto:20161005T180000
DTEND;TZID=America/Toronto:20161005T193000
DTSTAMP:20260423T100220
CREATED:20160914T175646Z
LAST-MODIFIED:20160914T180557Z
UID:12776-1475690400-1475695800@www.youngpeoplestheatre.org
SUMMARY:Cultural Gym - Building Story Through Improv
DESCRIPTION:Session #1\nCultural Gym: Building Story Through Improv with Herbie Barnes \nCultural Gym is an opportunity for both children and adults to exercise their creative muscles. Come challenge yourself in new ways and be part of an artistic community! \nThese fun\, fast-paced sessions will use ensemble-based exercises focusing on the creation and development of new characters and original stories. \nDates:\nWed. Oct. 5: 6:00pm – 7:30pm\nWed. Oct. 12: 6:00pm – 7:30pm\nWed. Oct. 19: 6:00pm – 7:30pm\nWed. Oct. 26: 6:00pm – 7:30pm \nParticipants \nThis intergenerational program is open to children\, youth and adults. Children under the age of 12 must be accompanied by a participating adult. We also welcome groups from community organizations. \nRegistration \nCultural Gym sessions are PWYC (Pay What You Can) with a recommended donation of $2 per session.  Space is limited. Pre-registration is recommended. Groups must register in advance. To register please contact Amber Ebert\, School & Community Programs Manager at aebert@youngpeoplestheatre.org by 12:00 Noon on the date you would like to attend. \nThis is a program of The Ada Slaight Education Centre at YPT\, established through a generous donation from The Slaight Family Foundation.
URL:https://www.youngpeoplestheatre.org/event/cultural-gym-building-story-improv/2016-10-05/
LOCATION:2nd Floor Classroom\, 161 Front St. E. \, Toronto\, Ontario\, M5A 3Z4\, Canada
CATEGORIES:All Ages,children,Families,Parents & Children,Parents/Guardians,Youth
ATTACH;FMTTYPE=image/jpeg:https://www.youngpeoplestheatre.org/wp-content/uploads/2016/04/Cultural-Gym-Banner-1.jpg
GEO:43.6500928;-79.3690762
X-APPLE-STRUCTURED-LOCATION;VALUE=URI;X-ADDRESS=2nd Floor Classroom 161 Front St. E.  Toronto Ontario M5A 3Z4 Canada;X-APPLE-RADIUS=500;X-TITLE=161 Front St. E.:geo:-79.3690762,43.6500928
END:VEVENT
BEGIN:VEVENT
DTSTART;TZID=America/Toronto:20160819T080000
DTEND;TZID=America/Toronto:20160819T170000
DTSTAMP:20260423T100220
CREATED:20160705T180517Z
LAST-MODIFIED:20160705T181841Z
UID:11481-1471593600-1471626000@www.youngpeoplestheatre.org
SUMMARY:Footprints Day Camp
DESCRIPTION:Footprints Day Camp\nAugust 19\, 2016 \n2 hour-program \nTime TBD \n*More information coming soon.
URL:https://www.youngpeoplestheatre.org/event/footprints-day-camp/
LOCATION:The Donway Covenant United Church\,  230 The Donway West\, Toronto\, Ontario\, M3B 2V8\, Canada
CATEGORIES:Ages 4-12,Youth
GEO:43.7388346;-79.3473749
X-APPLE-STRUCTURED-LOCATION;VALUE=URI;X-ADDRESS=The Donway Covenant United Church  230 The Donway West Toronto Ontario M3B 2V8 Canada;X-APPLE-RADIUS=500;X-TITLE=230 The Donway West:geo:-79.3473749,43.7388346
END:VEVENT
BEGIN:VEVENT
DTSTART;TZID=America/Toronto:20160804T140000
DTEND;TZID=America/Toronto:20160804T160000
DTSTAMP:20260423T100220
CREATED:20160705T175858Z
LAST-MODIFIED:20160708T185442Z
UID:11477-1470319200-1470326400@www.youngpeoplestheatre.org
SUMMARY:Summer Reading Series Workshop
DESCRIPTION:Summer Reading Series Workshop\nToronto Public Library – Barbara Frum Library – Summer Reading Series Workshop \nAugust 4\, 2016 \n2pm – 4pm \nTheme: Collective Creation \nFacilitated by Herbie Barnes. \nHerbie is an Anishnabe theatre artist from Aundeck Omni Kaning on Manitoulin Island. Some of Herbie’s stage roles include Bilbo Baggins in The Hobbit (YPT\, MTYP\, Carousel Players)\, Norvel Morrisou in Copper Thunderbird (NAC)\, a Wickersham Brother in Seussical (MTYP)\, and Russell in Russell’s World (MTYP)\, which he also wrote. He also played Tweedle Dee in Alice Through the Looking Glass as part of his season in the National Arts Centre Acting Ensemble. Herbie has directed a variety of productions across North America including Oliver (Bluff City Theatre)\, Tales of an Urban Indian (Public Theatre\, Autry Theatre) and Someday (Native Earth). Herbie works in front of and behind the camera in film and television as an actor\, director and writer. As an artist-educator\, Herbie has facilitated programs for elementary to university aged students including a technique he developed called “Dropping the Mask”. \n\nYPT offers a wide range of community programs and workshops that serve to enrich neighbourhoods throughout the city. The focus of these programs is to introduce participants to the arts while developing positive social skills.
URL:https://www.youngpeoplestheatre.org/event/summer-reading-series-workshop-2/
LOCATION:Barbara Frum Library\, 20 Covington Rd.\, Toronto\, Ontario\, M6A 3C1\, Canada
CATEGORIES:Teen,Workshop,Youth
GEO:43.7207858;-79.4321844
X-APPLE-STRUCTURED-LOCATION;VALUE=URI;X-ADDRESS=Barbara Frum Library 20 Covington Rd. Toronto Ontario M6A 3C1 Canada;X-APPLE-RADIUS=500;X-TITLE=20 Covington Rd.:geo:-79.4321844,43.7207858
END:VEVENT
BEGIN:VEVENT
DTSTART;TZID=America/Toronto:20160720T160000
DTEND;TZID=America/Toronto:20160720T180000
DTSTAMP:20260423T100220
CREATED:20160705T175552Z
LAST-MODIFIED:20160718T142207Z
UID:11475-1469030400-1469037600@www.youngpeoplestheatre.org
SUMMARY:Summer Reading Series Workshop
DESCRIPTION:Summer Reading Series Workshop\nToronto Public Library – Lillian Smith Library – Summer Reading Series Workshop \nJuly 20\, 2016 \n4pm – 6pm \nFacilitated by Lois Adamson\, YPT Member Schools & Education Manager. \n\nYPT offers a wide range of community programs and workshops that serve to enrich neighbourhoods throughout the city. The focus of these programs is to introduce participants to the arts while developing positive social skills.
URL:https://www.youngpeoplestheatre.org/event/summer-reading-series/
LOCATION:Lillian H. Smith Library\, 239 College St.\, Toronto\, Ontario\, M5T 1R5\, Canada
CATEGORIES:Families,General Public,Teen,Youth
GEO:43.6579416;-79.3983702
X-APPLE-STRUCTURED-LOCATION;VALUE=URI;X-ADDRESS=Lillian H. Smith Library 239 College St. Toronto Ontario M5T 1R5 Canada;X-APPLE-RADIUS=500;X-TITLE=239 College St.:geo:-79.3983702,43.6579416
END:VEVENT
BEGIN:VEVENT
DTSTART;VALUE=DATE:20160608
DTEND;VALUE=DATE:20160609
DTSTAMP:20260423T100220
CREATED:20160428T165605Z
LAST-MODIFIED:20160428T165651Z
UID:10056-1465344000-1465430399@www.youngpeoplestheatre.org
SUMMARY:Playwriting Workshop
DESCRIPTION:Playwriting Workshop\nGrades 9-12 \nWith a focus on playwriting\, students will discover and share their own voice and will practically apply what they learn by creating short plays of their own. Through facilitated sessions\, small group instruction and collaborative exploration with peers\, students will learn and develop their own work. They will employ strategies from the writing process and will use ensemble-based dramatic exercises to develop their own short plays. Students will also reflect on and discuss their learning experiences through online journaling throughout the process.
URL:https://www.youngpeoplestheatre.org/event/playwriting-workshop/2016-06-08/
LOCATION:Offsite
CATEGORIES:Grades,Grades 9 - 12,Schools,Workshop,Youth
END:VEVENT
BEGIN:VEVENT
DTSTART;TZID=America/Toronto:20160106T180000
DTEND;TZID=America/Toronto:20160106T200000
DTSTAMP:20260423T100220
CREATED:20151221T220156Z
LAST-MODIFIED:20151221T220156Z
UID:8407-1452103200-1452110400@www.youngpeoplestheatre.org
SUMMARY:Three Up
DESCRIPTION:Young People’s Theatre (YPT)\, Britain’s Action Transport Theatre (ATT) and the Australian Theatre for Young People (ATYP) are thrilled to partner together on Three Up\, a new international program for young writers aged 13-17. Four young people from the GTA with a passion for writing and interest in building their skills have been selected to be part of this five-month international collaboration. The Three Up program provides the opportunity for youth to reach beyond their own borders to build community with peers from the UK and Australia while working with professional\, local\, and international playwrights and facilitators. \nIn-person meetings will occur twice a month with the YPT facilitators and the four Canadian participants in attendance. The purpose of these meetings is to provide instruction on playwriting\, to discuss the ongoing collaborative work with their international partners\, to monitor progress and to share completed works. The five-month training program will culminate with the writers collaboratively creating a script with a counterpart from each of the other participating countries. \nMeeting Dates:\nWednesdays meetings (6pm to 8pm) will occur on the following dates: \nJanuary – Jan 6\, 2016 and Jan 27\, 2016\nFebruary – Feb 10\, 2016 and Feb 24\, 2016\nMarch – Mar 9\, 2016 and Mar 30\, 2016\nApril – April 13\, 2016 and April 27\, 2016\nMay/June – May 11\, 2016 and June 1\, 2016
URL:https://www.youngpeoplestheatre.org/event/three-up/
LOCATION:Ontario
CATEGORIES:Ages 13-17,Communities,Youth
END:VEVENT
BEGIN:VEVENT
DTSTART;TZID=America/Toronto:20151219T143000
DTEND;TZID=America/Toronto:20151219T154500
DTSTAMP:20260423T100220
CREATED:20151208T213244Z
LAST-MODIFIED:20151208T213244Z
UID:8219-1450535400-1450539900@www.youngpeoplestheatre.org
SUMMARY:Relaxed Performance of Jacob Two-Two Meets the Hooded Fang
DESCRIPTION:These performances are specifically designed for young people with Autism Spectrum Disorder (ASD). Relaxed performances may include adjusted sound and lighting levels\, a designated relief area outside of the Mainstage theatre\, and additional support before and during your visit. When we held our first relaxed performance in the 2014/15 season\, we learned a great deal about how small changes and additions to the resources and environment provided can have a big impact. YPT’s relaxed performances are geared toward young people with ASD\, but are also suitable for all young audiences and can be an especially good introductory experience for first-time theatregoers. \n\n“I would like to thank YPT for taking on this initiative. At the relaxed performance I attended\, it was very exciting to see the kids and staff engage in such a safe and supportive environment. The thought and time put into the accommodations for those in the audience with ASD was very impressive. Parents and teachers bringing children with ASD to these performances should feel very confident that their experience will be very positive. This programming is an incredible opportunity to support all kids in the way that all kids need to learn!” \n    – Jan Fukumoto\,  Co-ordinator Autism Services\, Special Education\,\nToronto District School Board \n\nVisitors may find it helpful to watch this “Visiting YPT” video prior to attendance! \nIn order to book your tickets\, please call our Box Office at 416.862.2222. \nFor more information\, contact Lois Adamson\, Member Schools & Education Manager at 416.363.5131 x224 or email ladamson@youngpeoplestheatre.org.
URL:https://www.youngpeoplestheatre.org/event/relaxed-performance-of-jacob-two-two-meets-the-hooded-fang-2/
LOCATION:Ontario
CATEGORIES:5 & up,Communities,Families,General Public,Parents & Children,Youth
ATTACH;FMTTYPE=:
END:VEVENT
BEGIN:VEVENT
DTSTART;TZID=America/Toronto:20151217T130000
DTEND;TZID=America/Toronto:20151217T141500
DTSTAMP:20260423T100220
CREATED:20151208T194806Z
LAST-MODIFIED:20151208T194806Z
UID:8217-1450357200-1450361700@www.youngpeoplestheatre.org
SUMMARY:Relaxed Performance of Jacob Two-Two Meets the Hooded Fang
DESCRIPTION:These performances are specifically designed for young people with Autism Spectrum Disorder (ASD). Relaxed performances may include adjusted sound and lighting levels\, a designated relief area outside of the Mainstage theatre\, and additional support before and during your visit. When we held our first relaxed performance in the 2014/15 season\, we learned a great deal about how small changes and additions to the resources and environment provided can have a big impact. YPT’s relaxed performances are geared toward young people with ASD\, but are also suitable for all young audiences and can be an especially good introductory experience for first-time theatregoers. \n\n“I would like to thank YPT for taking on this initiative. At the relaxed performance I attended\, it was very exciting to see the kids and staff engage in such a safe and supportive environment. The thought and time put into the accommodations for those in the audience with ASD was very impressive. Parents and teachers bringing children with ASD to these performances should feel very confident that their experience will be very positive. This programming is an incredible opportunity to support all kids in the way that all kids need to learn!” \n    – Jan Fukumoto\,  Co-ordinator Autism Services\, Special Education\,\nToronto District School Board \n\nVisitors may find it helpful to watch this “Visiting YPT” video prior to attendance! \nIn order to book your tickets\, please call our Box Office at 416.862.2222. \nFor more information\, contact Lois Adamson\, Member Schools & Education Manager at 416.363.5131 x224 or email ladamson@youngpeoplestheatre.org.
URL:https://www.youngpeoplestheatre.org/event/relaxed-performance-of-jacob-two-two-meets-the-hooded-fang/
LOCATION:Ontario
CATEGORIES:5 & up,Schools,SK-Grade 8,Youth
ATTACH;FMTTYPE=:
END:VEVENT
BEGIN:VEVENT
DTSTART;TZID=America/Toronto:20151206T150000
DTEND;TZID=America/Toronto:20151206T160000
DTSTAMP:20260423T100220
CREATED:20151210T213219Z
LAST-MODIFIED:20151210T213219Z
UID:8236-1449414000-1449417600@www.youngpeoplestheatre.org
SUMMARY:P@ndora Member School Workshop
DESCRIPTION:P@ndora Member School Workshop\nYPT’s P@ndora Member School Workshop is focused on exploring the play’s following themes: body image\, self esteem\, the impact of explicit imagery on adolescent sexuality and negotiating the intersection of real life and online relationships. YPT Resident Artist Educators work with students to explore these themes through a series of dramatic exercises. With specific curriculum expectations in place\, these active workshops are designed to enhance students’ understanding and experience of P@ndora. \nMember School Program\nYPT’s Member Schools program aims to create a deeper relationship between participating schools and the theatre. YPT works with school leadership to create a three-year partnership agreement  specifically tailored to the aims and needs of that particular school. Each partnership is different\, but all include increased attendance at the theatre\, enrichment for students and teachers\, as well as research with and by the participating school’s students and staff. We provide Member Schools with a special rate for tickets and enrichment programming\, thus allowing them to take full advantage of the many opportunities we offer. \nResident Artist Educators\nThe Resident Artist Educator program at YPT furthers the theatre’s leadership in the field of arts education at a professional theatre company. The Resident Artist-Educator Program is planned for each participant to be involved in YPT’s productions as well as work as a teaching artist in residence. As both artists and educators\, each participant creates\, teaches and learns during their residency thereby embodying the company’s dual identity as a professional theatre and centre of arts education. To see a full list of YPT’s Resident Artist Educators for the 2015/2016 season\, click here.
URL:https://www.youngpeoplestheatre.org/event/pndora-member-school-workshop/
LOCATION:Ontario
CATEGORIES:15,16,17,18,Grade 10,Grade 11,Grade 12,Member Schools,Workshop,Youth
ATTACH;FMTTYPE=:
END:VEVENT
BEGIN:VEVENT
DTSTART;TZID=America/Toronto:20151204T170000
DTEND;TZID=America/Toronto:20151204T170000
DTSTAMP:20260423T100220
CREATED:20151117T174143Z
LAST-MODIFIED:20151117T174143Z
UID:7867-1449248400-1449248400@www.youngpeoplestheatre.org
SUMMARY:Three Up Application Deadline
DESCRIPTION:The Three Up Application Deadline is 5:00pm on December 4\, 2015. \nYoung People’s Theatre (YPT)\, Britain’s Action Transport Theatre (ATT) and the Australian Theatre for Young People (ATYP) are thrilled to partner together on Three Up\, a new international program for young writers aged 13-17. YPT is looking for four young people from the GTA with a passion for writing and interest in building their skills to be part of this five-month international collaboration. The Three Up program provides the opportunity for youth to reach beyond their own borders to build community with peers from the UK and Australia while working with professional\, local\, and international playwrights and facilitators. \nWe are looking for participants for the Three Up program who:\n– Are between the ages of 13 -17.\n– Have experience and interest with creative writing (plays\, poems\, short stories\, etc.)\n– Have an interest in building international creative collaborations.\n– Are able to commit to attend all in-person sessions at YPT for the duration of the program (twice a month).\n– Are able to commit a minimum of four hours a week to independent writing and/or correspondence with international writing partners.\n– Have access to the internet\, a personal email address and permission to use a Facebook account to access our closed Facebook group. \nMeeting Dates:\nIn-person sessions will take place twice a month at YPT (165 Front Street E\, Toronto) with YPT facilitators and the four Canadian participants. These Wednesdays meetings (6pm to 8pm) will occur on the following dates: \nJanuary – Jan 6\, 2016 and Jan 27\, 2016\nFebruary – Feb 10\, 2016 and Feb 24\, 2016\nMarch – Mar 9\, 2016 and Mar 30\, 2016\nApril – April 13\, 2016 and April 27\, 2016\nMay/June – May 11\, 2016 and June 1\, 2016 \nHow to Apply:\nComplete and submit the Three Up Program Application Form along with one writing sample. \nAll applications will be reviewed and assessed by the Three Up program facilitators\, YPT’s School & Community Programs Manager and YPT’s Associate Artistic Director and Dramaturg. Applications will be assessed for merit\, writing craft and potential.
URL:https://www.youngpeoplestheatre.org/event/three-up-application-deadline/
LOCATION:Ontario
CATEGORIES:Ages 13-17,Communities,Youth
END:VEVENT
BEGIN:VEVENT
DTSTART;TZID=America/Toronto:20151121T153000
DTEND;TZID=America/Toronto:20151121T163000
DTSTAMP:20260423T100220
CREATED:20151116T211957Z
LAST-MODIFIED:20151116T211957Z
UID:7835-1448119800-1448123400@www.youngpeoplestheatre.org
SUMMARY:Backstage Tour
DESCRIPTION:Backstage Tour\nBackstage Tour by various YPT staff members\, we offer “Tours for a Toonie”\, a behind-the-scenes look at what it takes to mount a production. After watching the show\, participants are led though our shops (Props\, Wardrobe\, and Scene shop)\, through the lighting and sound booth and occasionally backstage. They are given a history of the building and YPT. \nTake a virtual tour here!
URL:https://www.youngpeoplestheatre.org/event/backstage-tour/
LOCATION:Ontario
CATEGORIES:Schools,Youth
ATTACH;FMTTYPE=:
END:VEVENT
END:VCALENDAR