BEGIN:VCALENDAR
VERSION:2.0
PRODID:-//Young People&#039;s Theatre - ECPv6.15.16.1//NONSGML v1.0//EN
CALSCALE:GREGORIAN
METHOD:PUBLISH
X-ORIGINAL-URL:https://www.youngpeoplestheatre.org
X-WR-CALDESC:Events for Young People&#039;s Theatre
REFRESH-INTERVAL;VALUE=DURATION:PT1H
X-Robots-Tag:noindex
X-PUBLISHED-TTL:PT1H
BEGIN:VTIMEZONE
TZID:America/Toronto
BEGIN:DAYLIGHT
TZOFFSETFROM:-0500
TZOFFSETTO:-0400
TZNAME:EDT
DTSTART:20150308T070000
END:DAYLIGHT
BEGIN:STANDARD
TZOFFSETFROM:-0400
TZOFFSETTO:-0500
TZNAME:EST
DTSTART:20151101T060000
END:STANDARD
BEGIN:DAYLIGHT
TZOFFSETFROM:-0500
TZOFFSETTO:-0400
TZNAME:EDT
DTSTART:20160313T070000
END:DAYLIGHT
BEGIN:STANDARD
TZOFFSETFROM:-0400
TZOFFSETTO:-0500
TZNAME:EST
DTSTART:20161106T060000
END:STANDARD
BEGIN:DAYLIGHT
TZOFFSETFROM:-0500
TZOFFSETTO:-0400
TZNAME:EDT
DTSTART:20170312T070000
END:DAYLIGHT
BEGIN:STANDARD
TZOFFSETFROM:-0400
TZOFFSETTO:-0500
TZNAME:EST
DTSTART:20171105T060000
END:STANDARD
BEGIN:DAYLIGHT
TZOFFSETFROM:-0500
TZOFFSETTO:-0400
TZNAME:EDT
DTSTART:20180311T070000
END:DAYLIGHT
BEGIN:STANDARD
TZOFFSETFROM:-0400
TZOFFSETTO:-0500
TZNAME:EST
DTSTART:20181104T060000
END:STANDARD
END:VTIMEZONE
BEGIN:VEVENT
DTSTART;TZID=America/Toronto:20170309T103500
DTEND;TZID=America/Toronto:20170309T113500
DTSTAMP:20260423T194451
CREATED:20170203T180245Z
LAST-MODIFIED:20170203T180245Z
UID:14376-1489055700-1489059300@www.youngpeoplestheatre.org
SUMMARY:James and the Giant Peach Member School Workshop
DESCRIPTION:James and the Giant Peach Member School Workshop\nThroughout the season\, YPT offers hour-long pre- and post-show Companion Workshops in connection with our productions\, in which students engage with the specific themes and ideas of a particular show while developing specialized drama skills. YPT’s pre- and post-show workshops in February and March are focused on its presentation of James and the Giant Peach. \nJames and the Giant Peach \nWords and Music by Benj Pasek and Justin Paul\nBook by Timothy Allen McDonald\nBased on the book James and the Giant Peach\nby Roald Dahl\nDirected by Nina Lee Aquino \n\nOn the Mainstage Feb. 6-Mar. 18\, 2017 including March Break!\nRecommended for Grades 1 to 6 | ages 6 & up\nRuns approx. 85 min.\n\n\nThis rollicking musical version of the beloved children’s classic returns due to overwhelming demand after a nearly sold-out run in 2014. A wonderfully whimsical journey to warm up the winter months. Look for the giant peach on YPT’s roof! \n“… theatre for young audiences as it should be: tasty and entertaining but with something to chew on as well.”\n– Toronto Star \nRoald Dahl’s James and the Giant Peach is presented through special arrangement with Music Theatre International (MTI). All authorized performance materials are also supplied by MTI. www.MTIShows.com \n\n 
URL:https://www.youngpeoplestheatre.org/event/member-school-post-show-workshop-2/
LOCATION:Young People’s Theatre\, 165 Front St. E\, Toronto\, Ontario\, M5A 3Z4\, Canada
CATEGORIES:6 & up,Member Schools,SK to Grade 6,Workshop
ATTACH;FMTTYPE=image/jpeg:https://www.youngpeoplestheatre.org/wp-content/uploads/2016/05/YPT_James_banner2.jpg
GEO:43.6500103;-79.3682912
X-APPLE-STRUCTURED-LOCATION;VALUE=URI;X-ADDRESS=Young People’s Theatre 165 Front St. E Toronto Ontario M5A 3Z4 Canada;X-APPLE-RADIUS=500;X-TITLE=165 Front St. E:geo:-79.3682912,43.6500103
END:VEVENT
BEGIN:VEVENT
DTSTART;TZID=America/Toronto:20161220T090000
DTEND;TZID=America/Toronto:20161220T110000
DTSTAMP:20260423T194451
CREATED:20161207T162617Z
LAST-MODIFIED:20161207T162638Z
UID:14201-1482224400-1482231600@www.youngpeoplestheatre.org
SUMMARY:Seussical™ Member School Workshop
DESCRIPTION:Seussical™ Member School Workshop\n\n\n\nThroughout the season\, YPT offers hour-long pre- and post-show Companion Workshops in connection with our productions\, in which students engage with the specific themes and ideas of a particular show while developing specialized drama skills. YPT’s pre- and post-show workshops in November and December are focused on its presentation of Seussical™. \nPictured (L-R): Jeigh Madjus and Jonathan Tan in a scene from Seussical™ at Young People’s Theatre; Set Design by Judith Bowden\, Costume Design by Charlotte Dean\, Lighting Design by Jason Hand; | Photo by Cylla von Tiedemann.  \n\nAn all-time favourite at YPT\, this fantastical musical exemplifies the philosophy that “a person’s a person no matter how small”. A Seuss-a-deussical treat for the Holidays! \nSeussical™\nMusic by Stephen Flaherty\nLyrics by Lynn Ahrens\nBook by Lynn Ahrens and Stephen Flaherty\nCo-Conceived by Lynn Ahrens\, Stephen Flaherty\,\nand Eric Idle\nBased on the Works of Dr. Seuss\nDirected by Thom Allison \nOn the Mainstage Nov. 14-Dec. 31\, 2016\n165 Front Street East\, Toronto\n416.862.2222\nRecommended for SK to Grade 6 | ages 5 & up\nRuns approx. 75 min.
URL:https://www.youngpeoplestheatre.org/event/member-school-workshop-4/
LOCATION:Offsite
CATEGORIES:Member Schools,SK to Grade 6,Workshop
ATTACH;FMTTYPE=image/png:https://www.youngpeoplestheatre.org/wp-content/uploads/2016/05/Seussical_Cast-Banner-Image-2.png
END:VEVENT
BEGIN:VEVENT
DTSTART;TZID=America/Toronto:20161216T090000
DTEND;TZID=America/Toronto:20161216T153000
DTSTAMP:20260423T194451
CREATED:20161207T163050Z
LAST-MODIFIED:20161207T163050Z
UID:14196-1481878800-1481902200@www.youngpeoplestheatre.org
SUMMARY:Seussical™ Member School Workshop
DESCRIPTION:Seussical™ Member School Workshop\n\n\n\nThroughout the season\, YPT offers hour-long pre- and post-show Companion Workshops in connection with our productions\, in which students engage with the specific themes and ideas of a particular show while developing specialized drama skills. YPT’s pre- and post-show workshops in November and December are focused on its presentation of Seussical™. \nPictured (L-R): Jeigh Madjus and Jonathan Tan in a scene from Seussical™ at Young People’s Theatre; Set Design by Judith Bowden\, Costume Design by Charlotte Dean\, Lighting Design by Jason Hand; | Photo by Cylla von Tiedemann.  \n\nAn all-time favourite at YPT\, this fantastical musical exemplifies the philosophy that “a person’s a person no matter how small”. A Seuss-a-deussical treat for the Holidays! \nSeussical™\nMusic by Stephen Flaherty\nLyrics by Lynn Ahrens\nBook by Lynn Ahrens and Stephen Flaherty\nCo-Conceived by Lynn Ahrens\, Stephen Flaherty\,\nand Eric Idle\nBased on the Works of Dr. Seuss\nDirected by Thom Allison \nOn the Mainstage Nov. 14-Dec. 31\, 2016\n165 Front Street East\, Toronto\n416.862.2222\nRecommended for SK to Grade 6 | ages 5 & up\nRuns approx. 75 min.
URL:https://www.youngpeoplestheatre.org/event/seussical-member-school-workshop-2/
LOCATION:Offsite
CATEGORIES:Member Schools,SK to Grade 6,Workshop
ATTACH;FMTTYPE=image/png:https://www.youngpeoplestheatre.org/wp-content/uploads/2016/05/Seussical_Cast-Banner-Image-2.png
END:VEVENT
BEGIN:VEVENT
DTSTART;TZID=America/Toronto:20161214T003000
DTEND;TZID=America/Toronto:20161214T143000
DTSTAMP:20260423T194451
CREATED:20161207T163248Z
LAST-MODIFIED:20161207T163306Z
UID:14192-1481675400-1481725800@www.youngpeoplestheatre.org
SUMMARY:Seussical™ Post-Show Workshop
DESCRIPTION:Seussical™ Post-Show Workshop\nThroughout the season\, YPT offers hour-long pre- and post-show Companion Workshops in connection with our productions\, in which students engage with the specific themes and ideas of a particular show while developing specialized drama skills. YPT’s pre- and post-show workshops in November and December are focused on its presentation of Seussical™. \nPictured (L-R): Jeigh Madjus and Jonathan Tan in a scene from Seussical™ at Young People’s Theatre; Set Design by Judith Bowden\, Costume Design by Charlotte Dean\, Lighting Design by Jason Hand; | Photo by Cylla von Tiedemann.\nAn all-time favourite at YPT\, this fantastical musical exemplifies the philosophy that “a person’s a person no matter how small”. A Seuss-a-deussical treat for the Holidays! \nSeussical™\nMusic by Stephen Flaherty\nLyrics by Lynn Ahrens\nBook by Lynn Ahrens and Stephen Flaherty\nCo-Conceived by Lynn Ahrens\, Stephen Flaherty\,\nand Eric Idle\nBased on the Works of Dr. Seuss\nDirected by Thom Allison \nOn the Mainstage Nov. 14-Dec. 31\, 2016\n165 Front Street East\, Toronto\n416.862.2222\nRecommended for SK to Grade 6 | ages 5 & up\nRuns approx. 75 min. \n 
URL:https://www.youngpeoplestheatre.org/event/seussical-post-show-workshop-6/
LOCATION:Offsite
CATEGORIES:Schools,SK to Grade 6,Workshop
ATTACH;FMTTYPE=image/png:https://www.youngpeoplestheatre.org/wp-content/uploads/2016/05/Seussical_Cast-Banner-Image-2.png
END:VEVENT
BEGIN:VEVENT
DTSTART;TZID=America/Toronto:20161213T090000
DTEND;TZID=America/Toronto:20161213T150000
DTSTAMP:20260423T194451
CREATED:20161207T163658Z
LAST-MODIFIED:20161207T163658Z
UID:14187-1481619600-1481641200@www.youngpeoplestheatre.org
SUMMARY:Seussical Post-Show Workshop
DESCRIPTION:Seussical™ Post-Show Workshop\nThroughout the season\, YPT offers hour-long pre- and post-show Companion Workshops in connection with our productions\, in which students engage with the specific themes and ideas of a particular show while developing specialized drama skills. YPT’s pre- and post-show workshops in November and December are focused on its presentation of Seussical™. \nPictured (L-R): Jeigh Madjus and Jonathan Tan in a scene from Seussical™ at Young People’s Theatre; Set Design by Judith Bowden\, Costume Design by Charlotte Dean\, Lighting Design by Jason Hand; | Photo by Cylla von Tiedemann.\nAn all-time favourite at YPT\, this fantastical musical exemplifies the philosophy that “a person’s a person no matter how small”. A Seuss-a-deussical treat for the Holidays! \nSeussical™\nMusic by Stephen Flaherty\nLyrics by Lynn Ahrens\nBook by Lynn Ahrens and Stephen Flaherty\nCo-Conceived by Lynn Ahrens\, Stephen Flaherty\,\nand Eric Idle\nBased on the Works of Dr. Seuss\nDirected by Thom Allison \nOn the Mainstage Nov. 14-Dec. 31\, 2016\n165 Front Street East\, Toronto\n416.862.2222\nRecommended for SK to Grade 6 | ages 5 & up\nRuns approx. 75 min. \n 
URL:https://www.youngpeoplestheatre.org/event/seussical-post-show-workshop-7/
LOCATION:Offsite
CATEGORIES:Schools,SK to Grade 6,Workshop
ATTACH;FMTTYPE=image/png:https://www.youngpeoplestheatre.org/wp-content/uploads/2016/05/Seussical_Cast-Banner-Image-2.png
END:VEVENT
BEGIN:VEVENT
DTSTART;TZID=America/Toronto:20161213T090000
DTEND;TZID=America/Toronto:20161213T130000
DTSTAMP:20260423T194451
CREATED:20161207T163517Z
LAST-MODIFIED:20161207T163517Z
UID:14189-1481619600-1481634000@www.youngpeoplestheatre.org
SUMMARY:Seussical™ Member School Workshop
DESCRIPTION:Seussical™ Member School Workshop\nThroughout the season\, YPT offers hour-long pre- and post-show Companion Workshops in connection with our productions\, in which students engage with the specific themes and ideas of a particular show while developing specialized drama skills. YPT’s pre- and post-show workshops in November and December are focused on its presentation of Seussical™. \nPictured (L-R): Jeigh Madjus and Jonathan Tan in a scene from Seussical™ at Young People’s Theatre; Set Design by Judith Bowden\, Costume Design by Charlotte Dean\, Lighting Design by Jason Hand; | Photo by Cylla von Tiedemann.\nAn all-time favourite at YPT\, this fantastical musical exemplifies the philosophy that “a person’s a person no matter how small”. A Seuss-a-deussical treat for the Holidays! \nSeussical™\nMusic by Stephen Flaherty\nLyrics by Lynn Ahrens\nBook by Lynn Ahrens and Stephen Flaherty\nCo-Conceived by Lynn Ahrens\, Stephen Flaherty\,\nand Eric Idle\nBased on the Works of Dr. Seuss\nDirected by Thom Allison \nOn the Mainstage Nov. 14-Dec. 31\, 2016\n165 Front Street East\, Toronto\n416.862.2222\nRecommended for SK to Grade 6 | ages 5 & up\nRuns approx. 75 min. \n 
URL:https://www.youngpeoplestheatre.org/event/member-school-post-show-workshop/
LOCATION:Offsite
CATEGORIES:Member Schools,SK to Grade 6,Workshop
ATTACH;FMTTYPE=image/png:https://www.youngpeoplestheatre.org/wp-content/uploads/2016/05/Seussical_Cast-Banner-Image-2.png
END:VEVENT
BEGIN:VEVENT
DTSTART;TZID=America/Toronto:20161212T123000
DTEND;TZID=America/Toronto:20161212T153000
DTSTAMP:20260423T194451
CREATED:20161207T163850Z
LAST-MODIFIED:20161207T163850Z
UID:14185-1481545800-1481556600@www.youngpeoplestheatre.org
SUMMARY:Seussical™ Pre-Show Workshop
DESCRIPTION:Seussical™ Pre-Show Workshop\nThroughout the season\, YPT offers hour-long pre- and post-show Companion Workshops in connection with our productions\, in which students engage with the specific themes and ideas of a particular show while developing specialized drama skills. YPT’s pre- and post-show workshops in November and December are focused on its presentation of Seussical™. \nPictured (L-R): Jeigh Madjus and Jonathan Tan in a scene from Seussical™ at Young People’s Theatre; Set Design by Judith Bowden\, Costume Design by Charlotte Dean\, Lighting Design by Jason Hand; | Photo by Cylla von Tiedemann.\nAn all-time favourite at YPT\, this fantastical musical exemplifies the philosophy that “a person’s a person no matter how small”. A Seuss-a-deussical treat for the Holidays! \nSeussical™\nMusic by Stephen Flaherty\nLyrics by Lynn Ahrens\nBook by Lynn Ahrens and Stephen Flaherty\nCo-Conceived by Lynn Ahrens\, Stephen Flaherty\,\nand Eric Idle\nBased on the Works of Dr. Seuss\nDirected by Thom Allison \nOn the Mainstage Nov. 14-Dec. 31\, 2016\n165 Front Street East\, Toronto\n416.862.2222\nRecommended for SK to Grade 6 | ages 5 & up\nRuns approx. 75 min. \n 
URL:https://www.youngpeoplestheatre.org/event/seussical-pre-show-workshop-4/
LOCATION:Offsite
CATEGORIES:Schools,SK to Grade 6,Workshop
ATTACH;FMTTYPE=image/png:https://www.youngpeoplestheatre.org/wp-content/uploads/2016/05/Seussical_Cast-Banner-Image-2.png
END:VEVENT
BEGIN:VEVENT
DTSTART;TZID=America/Toronto:20161212T090000
DTEND;TZID=America/Toronto:20161212T123000
DTSTAMP:20260423T194451
CREATED:20161207T164128Z
LAST-MODIFIED:20161207T164128Z
UID:14182-1481533200-1481545800@www.youngpeoplestheatre.org
SUMMARY:Seussical™ Pre-Show Workshop
DESCRIPTION:Seussical™ Pre-Show Workshop\nThroughout the season\, YPT offers hour-long pre- and post-show Companion Workshops in connection with our productions\, in which students engage with the specific themes and ideas of a particular show while developing specialized drama skills. YPT’s pre- and post-show workshops in November and December are focused on its presentation of Seussical™. \nPictured (L-R): Jeigh Madjus and Jonathan Tan in a scene from Seussical™ at Young People’s Theatre; Set Design by Judith Bowden\, Costume Design by Charlotte Dean\, Lighting Design by Jason Hand; | Photo by Cylla von Tiedemann.\nAn all-time favourite at YPT\, this fantastical musical exemplifies the philosophy that “a person’s a person no matter how small”. A Seuss-a-deussical treat for the Holidays! \nSeussical™\nMusic by Stephen Flaherty\nLyrics by Lynn Ahrens\nBook by Lynn Ahrens and Stephen Flaherty\nCo-Conceived by Lynn Ahrens\, Stephen Flaherty\,\nand Eric Idle\nBased on the Works of Dr. Seuss\nDirected by Thom Allison \nOn the Mainstage Nov. 14-Dec. 31\, 2016\n165 Front Street East\, Toronto\n416.862.2222\nRecommended for SK to Grade 6 | ages 5 & up\nRuns approx. 75 min. \n 
URL:https://www.youngpeoplestheatre.org/event/seussical-pre-show-workshop-3/
LOCATION:Offsite
CATEGORIES:Schools,SK to Grade 6,Workshop
ATTACH;FMTTYPE=image/png:https://www.youngpeoplestheatre.org/wp-content/uploads/2016/05/Seussical_Cast-Banner-Image-2.png
END:VEVENT
BEGIN:VEVENT
DTSTART;TZID=America/Toronto:20161207T123000
DTEND;TZID=America/Toronto:20161207T150000
DTSTAMP:20260423T194451
CREATED:20161205T154836Z
LAST-MODIFIED:20161205T154836Z
UID:14026-1481113800-1481122800@www.youngpeoplestheatre.org
SUMMARY:Seussical™ Pre-Show Workshop
DESCRIPTION:Seussical™ Pre-Show Workshop\nThroughout the season\, YPT offers hour-long pre- and post-show Companion Workshops in connection with our productions\, in which students engage with the specific themes and ideas of a particular show while developing specialized drama skills. YPT’s pre- and post-show workshops in November and December are focused on its presentation of Seussical™. \nPictured (L-R): Jeigh Madjus and Jonathan Tan in a scene from Seussical™ at Young People’s Theatre; Set Design by Judith Bowden\, Costume Design by Charlotte Dean\, Lighting Design by Jason Hand; | Photo by Cylla von Tiedemann.\nAn all-time favourite at YPT\, this fantastical musical exemplifies the philosophy that “a person’s a person no matter how small”. A Seuss-a-deussical treat for the Holidays! \nSeussical™\nMusic by Stephen Flaherty\nLyrics by Lynn Ahrens\nBook by Lynn Ahrens and Stephen Flaherty\nCo-Conceived by Lynn Ahrens\, Stephen Flaherty\,\nand Eric Idle\nBased on the Works of Dr. Seuss\nDirected by Thom Allison \nOn the Mainstage Nov. 14-Dec. 31\, 2016\n165 Front Street East\, Toronto\n416.862.2222\nRecommended for SK to Grade 6 | ages 5 & up\nRuns approx. 75 min. \n 
URL:https://www.youngpeoplestheatre.org/event/seussical-pre-show-workshop-2/
LOCATION:Offsite
CATEGORIES:Schools,SK to Grade 6,Workshop
ATTACH;FMTTYPE=image/png:https://www.youngpeoplestheatre.org/wp-content/uploads/2016/05/Seussical_Cast-Banner-Image-2.png
END:VEVENT
BEGIN:VEVENT
DTSTART;TZID=America/Toronto:20161207T090000
DTEND;TZID=America/Toronto:20161207T140000
DTSTAMP:20260423T194451
CREATED:20161205T154446Z
LAST-MODIFIED:20161206T160111Z
UID:14020-1481101200-1481119200@www.youngpeoplestheatre.org
SUMMARY:Seussical™ Post-Show Workshop
DESCRIPTION:Seussical™ Post-Show Workshop\nThroughout the season\, YPT offers hour-long pre- and post-show Companion Workshops in connection with our productions\, in which students engage with the specific themes and ideas of a particular show while developing specialized drama skills. YPT’s pre- and post-show workshops in November and December are focused on its presentation of Seussical™. \nPictured (L-R): Jeigh Madjus and Jonathan Tan in a scene from Seussical™ at Young People’s Theatre; Set Design by Judith Bowden\, Costume Design by Charlotte Dean\, Lighting Design by Jason Hand; | Photo by Cylla von Tiedemann.\nAn all-time favourite at YPT\, this fantastical musical exemplifies the philosophy that “a person’s a person no matter how small”. A Seuss-a-deussical treat for the Holidays! \nSeussical™\nMusic by Stephen Flaherty\nLyrics by Lynn Ahrens\nBook by Lynn Ahrens and Stephen Flaherty\nCo-Conceived by Lynn Ahrens\, Stephen Flaherty\,\nand Eric Idle\nBased on the Works of Dr. Seuss\nDirected by Thom Allison \nOn the Mainstage Nov. 14-Dec. 31\, 2016\n165 Front Street East\, Toronto\n416.862.2222\nRecommended for SK to Grade 6 | ages 5 & up\nRuns approx. 75 min. \n 
URL:https://www.youngpeoplestheatre.org/event/seussical-post-show-workshop-3/
LOCATION:Offsite
CATEGORIES:Schools,SK to Grade 6,Workshop
ATTACH;FMTTYPE=image/png:https://www.youngpeoplestheatre.org/wp-content/uploads/2016/05/Seussical_Cast-Banner-Image-2.png
END:VEVENT
BEGIN:VEVENT
DTSTART;TZID=America/Toronto:20161207T090000
DTEND;TZID=America/Toronto:20161207T120000
DTSTAMP:20260423T194451
CREATED:20161205T154650Z
LAST-MODIFIED:20161205T154650Z
UID:14024-1481101200-1481112000@www.youngpeoplestheatre.org
SUMMARY:Seussical™ Post-Show Workshop
DESCRIPTION:Seussical™ Post-Show Workshop\nThroughout the season\, YPT offers hour-long pre- and post-show Companion Workshops in connection with our productions\, in which students engage with the specific themes and ideas of a particular show while developing specialized drama skills. YPT’s pre- and post-show workshops in November and December are focused on its presentation of Seussical™. \nPictured (L-R): Jeigh Madjus and Jonathan Tan in a scene from Seussical™ at Young People’s Theatre; Set Design by Judith Bowden\, Costume Design by Charlotte Dean\, Lighting Design by Jason Hand; | Photo by Cylla von Tiedemann.\nAn all-time favourite at YPT\, this fantastical musical exemplifies the philosophy that “a person’s a person no matter how small”. A Seuss-a-deussical treat for the Holidays! \nSeussical™\nMusic by Stephen Flaherty\nLyrics by Lynn Ahrens\nBook by Lynn Ahrens and Stephen Flaherty\nCo-Conceived by Lynn Ahrens\, Stephen Flaherty\,\nand Eric Idle\nBased on the Works of Dr. Seuss\nDirected by Thom Allison \nOn the Mainstage Nov. 14-Dec. 31\, 2016\n165 Front Street East\, Toronto\n416.862.2222\nRecommended for SK to Grade 6 | ages 5 & up\nRuns approx. 75 min. \n 
URL:https://www.youngpeoplestheatre.org/event/seussical-post-show-workshop-4/
LOCATION:Offsite
CATEGORIES:Schools,SK to Grade 6,Workshop
ATTACH;FMTTYPE=image/png:https://www.youngpeoplestheatre.org/wp-content/uploads/2016/05/Seussical_Cast-Banner-Image-2.png
END:VEVENT
END:VCALENDAR