BEGIN:VCALENDAR
VERSION:2.0
PRODID:-//Young People&#039;s Theatre - ECPv6.15.16.1//NONSGML v1.0//EN
CALSCALE:GREGORIAN
METHOD:PUBLISH
X-WR-CALNAME:Young People&#039;s Theatre
X-ORIGINAL-URL:https://www.youngpeoplestheatre.org
X-WR-CALDESC:Events for Young People&#039;s Theatre
REFRESH-INTERVAL;VALUE=DURATION:PT1H
X-Robots-Tag:noindex
X-PUBLISHED-TTL:PT1H
BEGIN:VTIMEZONE
TZID:America/Toronto
BEGIN:DAYLIGHT
TZOFFSETFROM:-0500
TZOFFSETTO:-0400
TZNAME:EDT
DTSTART:20200308T070000
END:DAYLIGHT
BEGIN:STANDARD
TZOFFSETFROM:-0400
TZOFFSETTO:-0500
TZNAME:EST
DTSTART:20201101T060000
END:STANDARD
BEGIN:DAYLIGHT
TZOFFSETFROM:-0500
TZOFFSETTO:-0400
TZNAME:EDT
DTSTART:20210314T070000
END:DAYLIGHT
BEGIN:STANDARD
TZOFFSETFROM:-0400
TZOFFSETTO:-0500
TZNAME:EST
DTSTART:20211107T060000
END:STANDARD
BEGIN:DAYLIGHT
TZOFFSETFROM:-0500
TZOFFSETTO:-0400
TZNAME:EDT
DTSTART:20220313T070000
END:DAYLIGHT
BEGIN:STANDARD
TZOFFSETFROM:-0400
TZOFFSETTO:-0500
TZNAME:EST
DTSTART:20221106T060000
END:STANDARD
END:VTIMEZONE
BEGIN:VEVENT
DTSTART;TZID=America/Toronto:20210324T120000
DTEND;TZID=America/Toronto:20210324T123000
DTSTAMP:20260423T212321
CREATED:20210323T190341Z
LAST-MODIFIED:20210323T190341Z
UID:33601-1616587200-1616589000@www.youngpeoplestheatre.org
SUMMARY:Storytellers Series: Pamela Mordecai
DESCRIPTION:Storytellers Series: Pamela Mordecai\n\nGather the little ones in your life to watch as novelist\, poet and playwright Pamela Mordecai tells three captivating Jamaican folktales!\n\nRecommended for ages 4-8\, these clever stories include “Anansi and the Birds”\, “How All the Stories Came to be Called Anansi Stories” and “Don’t Trouble Trouble Until Trouble Troubles You”.\n\nClick here to watch Pamela’s videos\, posted on March 24 at 12PM.\n\nFor more information about our Storytellers Series – and to see previously posted videos – visit here.
URL:https://www.youngpeoplestheatre.org/event/storytellers-series-pamela-mordecai/
LOCATION:Online
CATEGORIES:Ages 4-8,Families,Parents & Children,SK-Gr. 2
ATTACH;FMTTYPE=image/png:https://www.youngpeoplestheatre.org/wp-content/uploads/2020/09/storytellers-4-Pamela-Mordecai-banner-new.png
ORGANIZER;CN="Young People's Theatre":MAILTO:online@youngpeoplestheatre.org
END:VEVENT
END:VCALENDAR