BEGIN:VCALENDAR
VERSION:2.0
PRODID:-//Young People&#039;s Theatre - ECPv6.15.16.1//NONSGML v1.0//EN
CALSCALE:GREGORIAN
METHOD:PUBLISH
X-ORIGINAL-URL:https://www.youngpeoplestheatre.org
X-WR-CALDESC:Events for Young People&#039;s Theatre
REFRESH-INTERVAL;VALUE=DURATION:PT1H
X-Robots-Tag:noindex
X-PUBLISHED-TTL:PT1H
BEGIN:VTIMEZONE
TZID:America/Toronto
BEGIN:DAYLIGHT
TZOFFSETFROM:-0500
TZOFFSETTO:-0400
TZNAME:EDT
DTSTART:20200308T070000
END:DAYLIGHT
BEGIN:STANDARD
TZOFFSETFROM:-0400
TZOFFSETTO:-0500
TZNAME:EST
DTSTART:20201101T060000
END:STANDARD
BEGIN:DAYLIGHT
TZOFFSETFROM:-0500
TZOFFSETTO:-0400
TZNAME:EDT
DTSTART:20210314T070000
END:DAYLIGHT
BEGIN:STANDARD
TZOFFSETFROM:-0400
TZOFFSETTO:-0500
TZNAME:EST
DTSTART:20211107T060000
END:STANDARD
BEGIN:DAYLIGHT
TZOFFSETFROM:-0500
TZOFFSETTO:-0400
TZNAME:EDT
DTSTART:20220313T070000
END:DAYLIGHT
BEGIN:STANDARD
TZOFFSETFROM:-0400
TZOFFSETTO:-0500
TZNAME:EST
DTSTART:20221106T060000
END:STANDARD
END:VTIMEZONE
BEGIN:VEVENT
DTSTART;TZID=America/Toronto:20210925T093000
DTEND;TZID=America/Toronto:20210925T103000
DTSTAMP:20260423T223049
CREATED:20211014T183339Z
LAST-MODIFIED:20211014T183339Z
UID:35504-1632562200-1632565800@www.youngpeoplestheatre.org
SUMMARY:JK-Gr. 2 Drama Class (Online)
DESCRIPTION:JK-Gr. 2 Drama Class (Online)\nSaturdays\n(Sept. 25 – Nov. 20) \n9:30AM – 10:30AM \nThrough imaginative games\, and gesture and movement work\, participants will develop their ability to express themselves verbally and physically\, building a confidence in their own creative ideas and their capacity to collaborate. There are also optional follow-up activities that include arts and crafts\, puppet making and drawing. (60 minutes) \nLearn More
URL:https://www.youngpeoplestheatre.org/event/jk-gr-2-drama-class-online/2021-09-25/
CATEGORIES:JK-Gr. 2
ATTACH;FMTTYPE=image/png:https://www.youngpeoplestheatre.org/wp-content/uploads/2021/10/Final-Weekend-Online-Classes-banner.png
ORGANIZER;CN="YPT Drama School":MAILTO:YPTDramaSchool@youngpeoplestheatre.org
END:VEVENT
END:VCALENDAR