BEGIN:VCALENDAR
VERSION:2.0
PRODID:-//Young People&#039;s Theatre - ECPv6.15.16.1//NONSGML v1.0//EN
CALSCALE:GREGORIAN
METHOD:PUBLISH
X-ORIGINAL-URL:https://www.youngpeoplestheatre.org
X-WR-CALDESC:Events for Young People&#039;s Theatre
REFRESH-INTERVAL;VALUE=DURATION:PT1H
X-Robots-Tag:noindex
X-PUBLISHED-TTL:PT1H
BEGIN:VTIMEZONE
TZID:America/Toronto
BEGIN:DAYLIGHT
TZOFFSETFROM:-0500
TZOFFSETTO:-0400
TZNAME:EDT
DTSTART:20200308T070000
END:DAYLIGHT
BEGIN:STANDARD
TZOFFSETFROM:-0400
TZOFFSETTO:-0500
TZNAME:EST
DTSTART:20201101T060000
END:STANDARD
BEGIN:DAYLIGHT
TZOFFSETFROM:-0500
TZOFFSETTO:-0400
TZNAME:EDT
DTSTART:20210314T070000
END:DAYLIGHT
BEGIN:STANDARD
TZOFFSETFROM:-0400
TZOFFSETTO:-0500
TZNAME:EST
DTSTART:20211107T060000
END:STANDARD
BEGIN:DAYLIGHT
TZOFFSETFROM:-0500
TZOFFSETTO:-0400
TZNAME:EDT
DTSTART:20220313T070000
END:DAYLIGHT
BEGIN:STANDARD
TZOFFSETFROM:-0400
TZOFFSETTO:-0500
TZNAME:EST
DTSTART:20221106T060000
END:STANDARD
END:VTIMEZONE
BEGIN:VEVENT
DTSTART;TZID=America/Toronto:20211016T143000
DTEND;TZID=America/Toronto:20211016T163000
DTSTAMP:20260424T020958
CREATED:20211014T184332Z
LAST-MODIFIED:20211014T184332Z
UID:35554-1634394600-1634401800@www.youngpeoplestheatre.org
SUMMARY:Gr. 6-8B Drama Class (Online)
DESCRIPTION:Gr. 6-8B Drama Class (Online)\nSaturdays\n(Oct. 16 – Dec. 4) \n2:30PM – 4:30PM \nThis fun\, active class\, will provide participants the chance to get up and create on their feet\, developing foundational voice and movement skills\, as well as character work and improvisation skills. Students will build their confidence in self-expression and collaborative work. (120 minutes) \nLearn More 
URL:https://www.youngpeoplestheatre.org/event/gr-6-8b-drama-class-online/2021-10-16/
LOCATION:Online
CATEGORIES:Gr. 6-8
ATTACH;FMTTYPE=image/png:https://www.youngpeoplestheatre.org/wp-content/uploads/2021/10/Final-Weekend-Online-Classes-banner.png
ORGANIZER;CN="YPT Drama School":MAILTO:YPTDramaSchool@youngpeoplestheatre.org
END:VEVENT
BEGIN:VEVENT
DTSTART;TZID=America/Toronto:20210925T123000
DTEND;TZID=America/Toronto:20210925T143000
DTSTAMP:20260424T020958
CREATED:20211014T184131Z
LAST-MODIFIED:20211014T184131Z
UID:35544-1632573000-1632580200@www.youngpeoplestheatre.org
SUMMARY:Gr. 6-8A Drama Class (Online)
DESCRIPTION:Gr. 6-8A Drama Class (Online)\nSaturdays\n(Sept. 25 – Nov. 20) \n12:30PM – 2:30PM \nThis fun\, active class\, will provide participants the chance to get up and create on their feet\, developing foundational voice and movement skills\, as well as character work and improvisation skills. Students will build their confidence in self-expression and collaborative work. (120 minutes) \nLearn More 
URL:https://www.youngpeoplestheatre.org/event/gr-6-8a-drama-class-online/2021-09-25/
LOCATION:Online
CATEGORIES:Gr. 6-8
ATTACH;FMTTYPE=image/png:https://www.youngpeoplestheatre.org/wp-content/uploads/2021/10/Final-Weekend-Online-Classes-banner.png
ORGANIZER;CN="YPT Drama School":MAILTO:YPTDramaSchool@youngpeoplestheatre.org
END:VEVENT
END:VCALENDAR