BEGIN:VCALENDAR
VERSION:2.0
PRODID:-//Young People&#039;s Theatre - ECPv6.15.16.1//NONSGML v1.0//EN
CALSCALE:GREGORIAN
METHOD:PUBLISH
X-ORIGINAL-URL:https://www.youngpeoplestheatre.org
X-WR-CALDESC:Events for Young People&#039;s Theatre
REFRESH-INTERVAL;VALUE=DURATION:PT1H
X-Robots-Tag:noindex
X-PUBLISHED-TTL:PT1H
BEGIN:VTIMEZONE
TZID:America/Toronto
BEGIN:DAYLIGHT
TZOFFSETFROM:-0500
TZOFFSETTO:-0400
TZNAME:EDT
DTSTART:20200308T070000
END:DAYLIGHT
BEGIN:STANDARD
TZOFFSETFROM:-0400
TZOFFSETTO:-0500
TZNAME:EST
DTSTART:20201101T060000
END:STANDARD
BEGIN:DAYLIGHT
TZOFFSETFROM:-0500
TZOFFSETTO:-0400
TZNAME:EDT
DTSTART:20210314T070000
END:DAYLIGHT
BEGIN:STANDARD
TZOFFSETFROM:-0400
TZOFFSETTO:-0500
TZNAME:EST
DTSTART:20211107T060000
END:STANDARD
BEGIN:DAYLIGHT
TZOFFSETFROM:-0500
TZOFFSETTO:-0400
TZNAME:EDT
DTSTART:20220313T070000
END:DAYLIGHT
BEGIN:STANDARD
TZOFFSETFROM:-0400
TZOFFSETTO:-0500
TZNAME:EST
DTSTART:20221106T060000
END:STANDARD
END:VTIMEZONE
BEGIN:VEVENT
DTSTART;TZID=America/Toronto:20210520T080000
DTEND;TZID=America/Toronto:20210520T170000
DTSTAMP:20260423T212341
CREATED:20210513T175403Z
LAST-MODIFIED:20210513T175403Z
UID:34412-1621497600-1621530000@www.youngpeoplestheatre.org
SUMMARY:Gospel Truth
DESCRIPTION:Gospel Truth\nBy Kanika Ambrose\nBased on the novel by Caroline Pignant\nDirected by Leighton Alexander Williams \nONLINE READING:\nMAY 20\, 2021 \nRunning time: approx. 60 mins. \nRecommended for Gr. 6-10 \nEARLY STAGES – A New Play Development Experience for Schools \nFeaturing new plays by five playwrights\, YPT gives students an inside look at the early stages of play development. Classrooms will receive exclusive access to live-streamed readings of new works in progress. \nPlease note that this is an interactive experience\, with playwrights curious about your students’ perceptions and opinions on specific elements of the play. Prior to the reading\, teachers will be supplied with questions for their students and will be asked to submit their feedback to YPT afterwards. \nFor more details or to register your class\, please contact Susan Waycik\, Box Office Supervisor\, at yptboxoffice@youngpeoplestheatre.org. \nThis program is offered at no cost. \nAbout Gospel Truth: \nGospel Truth focuses on the life of a young Black girl living on a Virginia plantation in the 1850’s and the changes that come unexpectedly with the arrival of a stranger from the north. Based on the novel by Caroline Pignant. \nLearn more here.
URL:https://www.youngpeoplestheatre.org/event/gospel-truth/
LOCATION:Online
CATEGORIES:Gr. 6-10,Schools
ATTACH;FMTTYPE=image/png:https://www.youngpeoplestheatre.org/wp-content/uploads/2021/01/Gospel-Truth-banner-1920x890-gold.png
ORGANIZER;CN="Young People's Theatre":MAILTO:online@youngpeoplestheatre.org
END:VEVENT
END:VCALENDAR