BEGIN:VCALENDAR
VERSION:2.0
PRODID:-//Young People&#039;s Theatre - ECPv6.15.16.1//NONSGML v1.0//EN
CALSCALE:GREGORIAN
METHOD:PUBLISH
X-ORIGINAL-URL:https://www.youngpeoplestheatre.org
X-WR-CALDESC:Events for Young People&#039;s Theatre
REFRESH-INTERVAL;VALUE=DURATION:PT1H
X-Robots-Tag:noindex
X-PUBLISHED-TTL:PT1H
BEGIN:VTIMEZONE
TZID:America/Toronto
BEGIN:DAYLIGHT
TZOFFSETFROM:-0500
TZOFFSETTO:-0400
TZNAME:EDT
DTSTART:20160313T070000
END:DAYLIGHT
BEGIN:STANDARD
TZOFFSETFROM:-0400
TZOFFSETTO:-0500
TZNAME:EST
DTSTART:20161106T060000
END:STANDARD
BEGIN:DAYLIGHT
TZOFFSETFROM:-0500
TZOFFSETTO:-0400
TZNAME:EDT
DTSTART:20170312T070000
END:DAYLIGHT
BEGIN:STANDARD
TZOFFSETFROM:-0400
TZOFFSETTO:-0500
TZNAME:EST
DTSTART:20171105T060000
END:STANDARD
BEGIN:DAYLIGHT
TZOFFSETFROM:-0500
TZOFFSETTO:-0400
TZNAME:EDT
DTSTART:20180311T070000
END:DAYLIGHT
BEGIN:STANDARD
TZOFFSETFROM:-0400
TZOFFSETTO:-0500
TZNAME:EST
DTSTART:20181104T060000
END:STANDARD
END:VTIMEZONE
BEGIN:VEVENT
DTSTART;TZID=America/Toronto:20171107T110000
DTEND;TZID=America/Toronto:20171107T113000
DTSTAMP:20260425T183546
CREATED:20171106T182923Z
LAST-MODIFIED:20171106T194232Z
UID:18488-1510052400-1510054200@www.youngpeoplestheatre.org
SUMMARY:Drama Time - SickKids Hospital
DESCRIPTION:The Reading Room Program at SickKids\nRanger Ray\, Therapeutic Clown at SickKids & Ramona Gilmour-Darling\, YPT Resident Artist Educator.\nYPT works in partnership with the SickKids Family Programs team to facilitate The YPT Reading Room Residency\, a series of weekly workshops focused on creative play for children from 0-6 years of age. This residency is based on another program run by YPT with Parent Resources\, a family drop-in centre located in East Toronto. The residency consists of weekly hour-long sessions delivered over six to eight weeks. Led by an YPT Resident Artist Educator\, each YPT Reading Room Residency session explores a particular theme through reading\, dramatization\, song and craft making. The premise of each session aligns with the hospital-wide themes set by the Family Programming staff. The YPT Reading Room Residency  seeks to enhance and integrate learning and literacy among young children by using drama and play as a source for creativity\, emotional expression and sensory stimulation. \nThe Reading Room program at SickKids is a daily drop-in program for children from 0-6 years of age in the Family Centre hosted by a resident therapeutic clown. The program is accessible to all children in the hospital\, including siblings of patients receiving treatment. Every session of the Reading Room is broadcast live on the hospitals closed circuit system allowing any child to watch and participate wherever they are in the hospital and regardless of their physical health or ability.
URL:https://www.youngpeoplestheatre.org/event/drama-time-sickkids-hospital/2017-11-07/
LOCATION:SickKids Hospital\, 555 University Ave\, Toronto\, Ontario\, M5G 1X8\, Canada
CATEGORIES:Communities,SickKids Hospital
GEO:43.657299;-79.3873968
X-APPLE-STRUCTURED-LOCATION;VALUE=URI;X-ADDRESS=SickKids Hospital 555 University Ave Toronto Ontario M5G 1X8 Canada;X-APPLE-RADIUS=500;X-TITLE=555 University Ave:geo:-79.3873968,43.657299
END:VEVENT
END:VCALENDAR