BEGIN:VCALENDAR
VERSION:2.0
PRODID:-//Young People&#039;s Theatre - ECPv6.15.16.1//NONSGML v1.0//EN
CALSCALE:GREGORIAN
METHOD:PUBLISH
X-ORIGINAL-URL:https://www.youngpeoplestheatre.org
X-WR-CALDESC:Events for Young People&#039;s Theatre
REFRESH-INTERVAL;VALUE=DURATION:PT1H
X-Robots-Tag:noindex
X-PUBLISHED-TTL:PT1H
BEGIN:VTIMEZONE
TZID:America/Toronto
BEGIN:DAYLIGHT
TZOFFSETFROM:-0500
TZOFFSETTO:-0400
TZNAME:EDT
DTSTART:20200308T070000
END:DAYLIGHT
BEGIN:STANDARD
TZOFFSETFROM:-0400
TZOFFSETTO:-0500
TZNAME:EST
DTSTART:20201101T060000
END:STANDARD
BEGIN:DAYLIGHT
TZOFFSETFROM:-0500
TZOFFSETTO:-0400
TZNAME:EDT
DTSTART:20210314T070000
END:DAYLIGHT
BEGIN:STANDARD
TZOFFSETFROM:-0400
TZOFFSETTO:-0500
TZNAME:EST
DTSTART:20211107T060000
END:STANDARD
BEGIN:DAYLIGHT
TZOFFSETFROM:-0500
TZOFFSETTO:-0400
TZNAME:EDT
DTSTART:20220313T070000
END:DAYLIGHT
BEGIN:STANDARD
TZOFFSETFROM:-0400
TZOFFSETTO:-0500
TZNAME:EST
DTSTART:20221106T060000
END:STANDARD
END:VTIMEZONE
BEGIN:VEVENT
DTSTART;TZID=America/Toronto:20210928T150000
DTEND;TZID=America/Toronto:20210928T170000
DTSTAMP:20260424T023545
CREATED:20211014T190329Z
LAST-MODIFIED:20211014T190528Z
UID:35630-1632841200-1632848400@www.youngpeoplestheatre.org
SUMMARY:Play Days
DESCRIPTION:Play Days\nPlay Day #1:\nTuesday\, September 28\n3PM-5PM (EDT) \nExchange #1:\nWednesday\, October 20\n3PM-5PM (EDT) \nAre you interested in arts education? Looking for more opportunities to keep growing your arts education practice? Whether you are an emerging or experienced artist or artist educator\, we invite you to join Young People’s Theatre for Play Days: an informal opportunity to connect with other like-minded people and YPT staff to share and exchange ideas\, games and resources\, build community\, and – you guessed it – play! \nLearn More
URL:https://www.youngpeoplestheatre.org/event/play-days/2021-09-28/
LOCATION:Online
CATEGORIES:Artist,Artist Educators
ATTACH;FMTTYPE=image/png:https://www.youngpeoplestheatre.org/wp-content/uploads/2021/09/Play-Days-image-workshops-page.png
ORGANIZER;CN="Yvonne Addai":MAILTO:yaddai@youngpeoplestheatre.org
END:VEVENT
END:VCALENDAR