BEGIN:VCALENDAR
VERSION:2.0
PRODID:-//Young People&#039;s Theatre - ECPv6.15.16.1//NONSGML v1.0//EN
CALSCALE:GREGORIAN
METHOD:PUBLISH
X-ORIGINAL-URL:https://www.youngpeoplestheatre.org
X-WR-CALDESC:Events for Young People&#039;s Theatre
REFRESH-INTERVAL;VALUE=DURATION:PT1H
X-Robots-Tag:noindex
X-PUBLISHED-TTL:PT1H
BEGIN:VTIMEZONE
TZID:America/Toronto
BEGIN:DAYLIGHT
TZOFFSETFROM:-0500
TZOFFSETTO:-0400
TZNAME:EDT
DTSTART:20200308T070000
END:DAYLIGHT
BEGIN:STANDARD
TZOFFSETFROM:-0400
TZOFFSETTO:-0500
TZNAME:EST
DTSTART:20201101T060000
END:STANDARD
BEGIN:DAYLIGHT
TZOFFSETFROM:-0500
TZOFFSETTO:-0400
TZNAME:EDT
DTSTART:20210314T070000
END:DAYLIGHT
BEGIN:STANDARD
TZOFFSETFROM:-0400
TZOFFSETTO:-0500
TZNAME:EST
DTSTART:20211107T060000
END:STANDARD
BEGIN:DAYLIGHT
TZOFFSETFROM:-0500
TZOFFSETTO:-0400
TZNAME:EDT
DTSTART:20220313T070000
END:DAYLIGHT
BEGIN:STANDARD
TZOFFSETFROM:-0400
TZOFFSETTO:-0500
TZNAME:EST
DTSTART:20221106T060000
END:STANDARD
END:VTIMEZONE
BEGIN:VEVENT
DTSTART;TZID=America/Toronto:20211106T100000
DTEND;TZID=America/Toronto:20211106T103000
DTSTAMP:20260424T093343
CREATED:20211014T175449Z
LAST-MODIFIED:20211014T175449Z
UID:35409-1636192800-1636194600@www.youngpeoplestheatre.org
SUMMARY:Pre-School Online Drama Time
DESCRIPTION:Pre-School Online Drama Time\nAges 2-3 years\nOnline\nSaturdays\, 10AM-10:30AM\nNov. 6 – Dec. 4\, 2021 \n\n\nRegister today! \nAn interactive drama class with a focus on storytelling\, character creation\, movement and music for toddlers preparing for school! We encourage hands-on engagement between caregiver and child so everyone can play and have fun together. Children will spend each week exploring a particular theme building to our culminating creation at the end of the term. After each class there will also be an optional 15-minute free-play time to continue connecting with other children and parents. \nPre-School Drama Time will be held online every Saturday from Nov. 6 – Dec. 4\, 2021 at 10AM for 30 minutes. This class is suitable for toddlers aged 2-3 and is led by artist educator Emily Langer\, who has experience in toddler development and programming. \nFee: $55 for 5 classes \nSchedule:\nSaturday\, Nov. 6\, 2021 at 10AM\nSaturday\, Nov. 13\, 2021 at 10AM\nSaturday\, Nov. 20\, 2021 at 10AM\nSaturday\, Nov. 27\, 2021 at 10AM\nSaturday\, Dec. 4\, 2021 at 10AM \n\n\n\n\nQuestions? Contact us at YPTDramaSchool@youngpeoplestheatre.org.
URL:https://www.youngpeoplestheatre.org/event/pre-school-online-drama-time/2021-11-06/
LOCATION:Online
CATEGORIES:Ages 2-3 years,children,Parents & Children,Pre-School
ATTACH;FMTTYPE=image/png:https://www.youngpeoplestheatre.org/wp-content/uploads/2021/10/Final-Pre-School-Online-Drama-Time-banner.png
ORGANIZER;CN="YPT Drama School":MAILTO:YPTDramaSchool@youngpeoplestheatre.org
END:VEVENT
END:VCALENDAR