BEGIN:VCALENDAR
VERSION:2.0
PRODID:-//Young People&#039;s Theatre - ECPv6.15.16.1//NONSGML v1.0//EN
CALSCALE:GREGORIAN
METHOD:PUBLISH
X-WR-CALNAME:Young People&#039;s Theatre
X-ORIGINAL-URL:https://www.youngpeoplestheatre.org
X-WR-CALDESC:Events for Young People&#039;s Theatre
REFRESH-INTERVAL;VALUE=DURATION:PT1H
X-Robots-Tag:noindex
X-PUBLISHED-TTL:PT1H
BEGIN:VTIMEZONE
TZID:America/Toronto
BEGIN:DAYLIGHT
TZOFFSETFROM:-0500
TZOFFSETTO:-0400
TZNAME:EDT
DTSTART:20190310T070000
END:DAYLIGHT
BEGIN:STANDARD
TZOFFSETFROM:-0400
TZOFFSETTO:-0500
TZNAME:EST
DTSTART:20191103T060000
END:STANDARD
BEGIN:DAYLIGHT
TZOFFSETFROM:-0500
TZOFFSETTO:-0400
TZNAME:EDT
DTSTART:20200308T070000
END:DAYLIGHT
BEGIN:STANDARD
TZOFFSETFROM:-0400
TZOFFSETTO:-0500
TZNAME:EST
DTSTART:20201101T060000
END:STANDARD
BEGIN:DAYLIGHT
TZOFFSETFROM:-0500
TZOFFSETTO:-0400
TZNAME:EDT
DTSTART:20210314T070000
END:DAYLIGHT
BEGIN:STANDARD
TZOFFSETFROM:-0400
TZOFFSETTO:-0500
TZNAME:EST
DTSTART:20211107T060000
END:STANDARD
END:VTIMEZONE
BEGIN:VEVENT
DTSTART;TZID=America/Toronto:20201017T120000
DTEND;TZID=America/Toronto:20201017T140000
DTSTAMP:20260423T144438
CREATED:20200915T190949Z
LAST-MODIFIED:20200915T190949Z
UID:31012-1602936000-1602943200@www.youngpeoplestheatre.org
SUMMARY:Online Drama Gr. 7-8
DESCRIPTION:Online Drama Gr. 7-8\nOct. 17 – Dec. 5\, 2020 \n\n\n\nGrade 7-8 A\n12PM – 2PM\n$288\nSharon Heldt\n\n\n\nGrade 7-8 B\n2:30PM – 4:30PM\n$288\nErica May-Wood\n\n\n\nStudents of all levels are welcome! Participants will engage in a variety of physical\, vocal and improvisation games and exercises\, developing confidence in their ideas\, expression\, ability to create on their feet and collaborate as an ensemble. Classes will explore how an actor prepares to perform\, the basic principles of improvisation\, as well as methodologies for character creation. (120 minutes).
URL:https://www.youngpeoplestheatre.org/event/online-drama-gr-7-8/2020-10-17/
LOCATION:Online
CATEGORIES:Grades 7-8
ATTACH;FMTTYPE=image/png:https://www.youngpeoplestheatre.org/wp-content/uploads/2020/09/Saturday-Online-Classes-banner-Sept.-8.png
END:VEVENT
END:VCALENDAR