BEGIN:VCALENDAR
VERSION:2.0
PRODID:-//Young People&#039;s Theatre - ECPv6.15.16.1//NONSGML v1.0//EN
CALSCALE:GREGORIAN
METHOD:PUBLISH
X-WR-CALNAME:Young People&#039;s Theatre
X-ORIGINAL-URL:https://www.youngpeoplestheatre.org
X-WR-CALDESC:Events for Young People&#039;s Theatre
REFRESH-INTERVAL;VALUE=DURATION:PT1H
X-Robots-Tag:noindex
X-PUBLISHED-TTL:PT1H
BEGIN:VTIMEZONE
TZID:America/Toronto
BEGIN:DAYLIGHT
TZOFFSETFROM:-0500
TZOFFSETTO:-0400
TZNAME:EDT
DTSTART:20200308T070000
END:DAYLIGHT
BEGIN:STANDARD
TZOFFSETFROM:-0400
TZOFFSETTO:-0500
TZNAME:EST
DTSTART:20201101T060000
END:STANDARD
BEGIN:DAYLIGHT
TZOFFSETFROM:-0500
TZOFFSETTO:-0400
TZNAME:EDT
DTSTART:20210314T070000
END:DAYLIGHT
BEGIN:STANDARD
TZOFFSETFROM:-0400
TZOFFSETTO:-0500
TZNAME:EST
DTSTART:20211107T060000
END:STANDARD
BEGIN:DAYLIGHT
TZOFFSETFROM:-0500
TZOFFSETTO:-0400
TZNAME:EDT
DTSTART:20220313T070000
END:DAYLIGHT
BEGIN:STANDARD
TZOFFSETFROM:-0400
TZOFFSETTO:-0500
TZNAME:EST
DTSTART:20221106T060000
END:STANDARD
END:VTIMEZONE
BEGIN:VEVENT
DTSTART;TZID=America/Toronto:20210925T110000
DTEND;TZID=America/Toronto:20210925T120000
DTSTAMP:20260424T005627
CREATED:20211014T183903Z
LAST-MODIFIED:20211014T183918Z
UID:35525-1632567600-1632571200@www.youngpeoplestheatre.org
SUMMARY:Gr. 3-5B Drama Class (Online)
DESCRIPTION:Gr. 3-5B Drama Class (Online)\nSaturdays\n(Sept. 25 – Nov. 20) \n11AM – 12PM \nBy engaging in imaginative games and improvisation exercises\, exploring their voices and creative ways to express themselves physically\, participants will deepen their drama skills. This term focuses on vocal and physical expression\, improvisation\, self-expression and confidence. (60 minutes) \nLearn More 
URL:https://www.youngpeoplestheatre.org/event/gr-3-5b-drama-class-online/2021-09-25/
LOCATION:Online
CATEGORIES:Gr. 3-5
ATTACH;FMTTYPE=image/png:https://www.youngpeoplestheatre.org/wp-content/uploads/2021/10/Final-Weekend-Online-Classes-banner.png
ORGANIZER;CN="YPT Drama School":MAILTO:YPTDramaSchool@youngpeoplestheatre.org
END:VEVENT
END:VCALENDAR