BEGIN:VCALENDAR
VERSION:2.0
PRODID:-//Young People&#039;s Theatre - ECPv6.15.16.1//NONSGML v1.0//EN
CALSCALE:GREGORIAN
METHOD:PUBLISH
X-WR-CALNAME:Young People&#039;s Theatre
X-ORIGINAL-URL:https://www.youngpeoplestheatre.org
X-WR-CALDESC:Events for Young People&#039;s Theatre
REFRESH-INTERVAL;VALUE=DURATION:PT1H
X-Robots-Tag:noindex
X-PUBLISHED-TTL:PT1H
BEGIN:VTIMEZONE
TZID:America/Toronto
BEGIN:DAYLIGHT
TZOFFSETFROM:-0500
TZOFFSETTO:-0400
TZNAME:EDT
DTSTART:20190310T070000
END:DAYLIGHT
BEGIN:STANDARD
TZOFFSETFROM:-0400
TZOFFSETTO:-0500
TZNAME:EST
DTSTART:20191103T060000
END:STANDARD
BEGIN:DAYLIGHT
TZOFFSETFROM:-0500
TZOFFSETTO:-0400
TZNAME:EDT
DTSTART:20200308T070000
END:DAYLIGHT
BEGIN:STANDARD
TZOFFSETFROM:-0400
TZOFFSETTO:-0500
TZNAME:EST
DTSTART:20201101T060000
END:STANDARD
BEGIN:DAYLIGHT
TZOFFSETFROM:-0500
TZOFFSETTO:-0400
TZNAME:EDT
DTSTART:20210314T070000
END:DAYLIGHT
BEGIN:STANDARD
TZOFFSETFROM:-0400
TZOFFSETTO:-0500
TZNAME:EST
DTSTART:20211107T060000
END:STANDARD
END:VTIMEZONE
BEGIN:VEVENT
DTSTART;TZID=America/Toronto:20201017T133000
DTEND;TZID=America/Toronto:20201017T153000
DTSTAMP:20260423T154838
CREATED:20200915T191144Z
LAST-MODIFIED:20200915T191144Z
UID:31021-1602941400-1602948600@www.youngpeoplestheatre.org
SUMMARY:Audition Technique
DESCRIPTION:Audition Technique\n(Grade 7-8)\nOct. 17 – Dec. 5\, 2020\n1:30PM – 3:30PM\n \nFor students auditioning for an arts school or show\, or who love diving into text work\, this is the class to take! Students learn the strategies and skills necessary to bring their monologues to life and make the best impression online! (120 minutes).
URL:https://www.youngpeoplestheatre.org/event/audition-technique/2020-10-17/
LOCATION:Online
CATEGORIES:Grades 7-8
ATTACH;FMTTYPE=image/png:https://www.youngpeoplestheatre.org/wp-content/uploads/2020/09/Saturday-Online-Classes-banner-Sept.-8.png
END:VEVENT
END:VCALENDAR