BEGIN:VCALENDAR
VERSION:2.0
PRODID:-//Young People&#039;s Theatre - ECPv6.15.16.1//NONSGML v1.0//EN
CALSCALE:GREGORIAN
METHOD:PUBLISH
X-WR-CALNAME:Young People&#039;s Theatre
X-ORIGINAL-URL:https://www.youngpeoplestheatre.org
X-WR-CALDESC:Events for Young People&#039;s Theatre
REFRESH-INTERVAL;VALUE=DURATION:PT1H
X-Robots-Tag:noindex
X-PUBLISHED-TTL:PT1H
BEGIN:VTIMEZONE
TZID:America/Toronto
BEGIN:DAYLIGHT
TZOFFSETFROM:-0500
TZOFFSETTO:-0400
TZNAME:EDT
DTSTART:20180311T070000
END:DAYLIGHT
BEGIN:STANDARD
TZOFFSETFROM:-0400
TZOFFSETTO:-0500
TZNAME:EST
DTSTART:20181104T060000
END:STANDARD
BEGIN:DAYLIGHT
TZOFFSETFROM:-0500
TZOFFSETTO:-0400
TZNAME:EDT
DTSTART:20190310T070000
END:DAYLIGHT
BEGIN:STANDARD
TZOFFSETFROM:-0400
TZOFFSETTO:-0500
TZNAME:EST
DTSTART:20191103T060000
END:STANDARD
BEGIN:DAYLIGHT
TZOFFSETFROM:-0500
TZOFFSETTO:-0400
TZNAME:EDT
DTSTART:20200308T070000
END:DAYLIGHT
BEGIN:STANDARD
TZOFFSETFROM:-0400
TZOFFSETTO:-0500
TZNAME:EST
DTSTART:20201101T060000
END:STANDARD
END:VTIMEZONE
BEGIN:VEVENT
DTSTART;TZID=America/Toronto:20190514T113000
DTEND;TZID=America/Toronto:20190514T121500
DTSTAMP:20260423T170959
CREATED:20190422T145625Z
LAST-MODIFIED:20190424T183208Z
UID:25790-1557833400-1557836100@www.youngpeoplestheatre.org
SUMMARY:Baby Drama Time
DESCRIPTION:Baby Drama Time is a new interactive drama\, movement and music class for a caregiver or parent to enjoy with the baby in their life! Expanding on YPT’s hugely successful work with theatre for babies\, each term will explore a particular theme through sensory play\, storytelling\, and song. Meet new parents and enjoy a relaxed environment to spend time with your babies — and have fun introducing the building blocks of storytelling and interactive play to your baby! \nBaby Drama Time is held at YPT on Tuesday mornings from 11:30AM — 12:15PM and is suitable for babies aged 4-18 months. Each class is led by an artist educator with experience in infant development and programming. \nJoin us for the Spring term!\nTuesday\, May 14\, May 21\, May 28\, June 4 & June 11 \nDrop-in Fee: $12 per class\nPre-registration Fee: $50 for 5 classes \nREGISTER HERE. \nQuestions? Contact Emily Langer\, Drama School Coordinator at 416.363.5131 x263 | elanger(at)youngpeoplestheatre.org
URL:https://www.youngpeoplestheatre.org/event/25790/2019-05-14/
LOCATION:Young People’s Theatre\, 165 Front St. E\, Toronto\, Ontario\, M5A 3Z4\, Canada
CATEGORIES:4-18 months,Families,General Public,Parent/Caregiver & Baby
ORGANIZER;CN="YPT Drama School":MAILTO:YPTDramaSchool@youngpeoplestheatre.org
GEO:43.6500103;-79.3682912
X-APPLE-STRUCTURED-LOCATION;VALUE=URI;X-ADDRESS=Young People’s Theatre 165 Front St. E Toronto Ontario M5A 3Z4 Canada;X-APPLE-RADIUS=500;X-TITLE=165 Front St. E:geo:-79.3682912,43.6500103
END:VEVENT
END:VCALENDAR